BEGIN:VCALENDAR
VERSION:2.0
PRODID:-//ChamberMaster//Event Calendar 2.0//EN
METHOD:PUBLISH
X-PUBLISHED-TTL:P3D
REFRESH-INTERVAL:P3D
CALSCALE:GREGORIAN
BEGIN:VEVENT
DTSTART:20181030T153000Z
DTEND:20181030T163000Z
X-MICROSOFT-CDO-ALLDAYEVENT:FALSE
SUMMARY:Irmo Music Academy Ribbon Cutting
DESCRIPTION:Please join us in welcoming Irmo Music Academy to the #FUNCHAMBER!\n\n\n\nWe'll cut the ribbon at 11:45 and a light lunch will be served.
X-ALT-DESC;FMTTYPE=text/html:Please join us in welcoming Irmo Music Academy to the #FUNCHAMBER!<br />\n<br />\nWe&#39\;ll cut the ribbon at 11:45 and a light lunch will be served.
LOCATION:Irmo Music Academy 1061 Lake Murray Blvd. Irmo\, SC 29063
UID:e.1333.3274
SEQUENCE:3
DTSTAMP:20260423T120359Z
URL:https://business.greaterirmochamber.com/events/details/irmo-music-academy-ribbon-cutting-3274
END:VEVENT

END:VCALENDAR
