BEGIN:VCALENDAR
VERSION:2.0
PRODID:-//ChamberMaster//Event Calendar 2.0//EN
METHOD:PUBLISH
X-PUBLISHED-TTL:P3D
REFRESH-INTERVAL:P3D
CALSCALE:GREGORIAN
BEGIN:VEVENT
DTSTART:20240224T223000Z
DTEND:20240225T013000Z
X-MICROSOFT-CDO-ALLDAYEVENT:FALSE
SUMMARY:Irmo's Black History Celebration
DESCRIPTION:Irmo Unity: A Celebration of Black History\n\nEmbark on a journey through the rich tapestry of Black History of Irmo South Carolina. Join us for an unforgettable evening with soulful music\, delectable food\, meaningful displays\, and a thoughtfully curated program that embraces the past\, celebrates the present\, and envisions a bright future.\n\nDisplays: Walk through displays that chronicle the impactful journey of black history from iconic moments to unsung heroes these exhibits aim to educate and inspire fostering a deeper understanding and appreciation for the contributions of the Irmo Community.\n\nCommunity Mingle: Connect with friends\, neighbors\, and new acquaintances in a warm and welcoming atmosphere.\n\nHonoring Past\, Celebrating Present\, Envisioning Future: The event will feature a program that pays tribute to the achievements and struggles of the past\, celebrates resilience and accomplishments of the present\; and inspires hope for a future where diversity and unity thrive.\n\nIrmo Unity: "A Celebration of Black History" is a testament to the spirit of unity and resilience that defines the black experience. Join us as we honor the Legacy celebrate the present\, and envision a future where diversity is cherished\, and unity prevails. Let's unite to make history and create lasting connections within our community. Save the date for an inspiring celebration that promises to leave a lasting impact on hearts and minds.\n\n\n\n \n\nAttire will be semi-formal with music\, hors d'oeuvres\, and captivating displays.
X-ALT-DESC;FMTTYPE=text/html:<p style="margin: 0px\; padding: 0px\; box-sizing: border-box\; color: rgb(111\, 114\, 135)\; font-size: 16px\; line-height: 1.5rem\; font-family: &quot\;Neue Plak&quot\;\, -apple-system\, &quot\;system-ui&quot\;\, Roboto\, &quot\;Helvetica Neue&quot\;\, Helvetica\, Tahoma\, Arial\, sans-serif\;"><span style="font-size:16px\;"><span style="font-family:verdana\;"><span style="font-weight: 700\; box-sizing: border-box\; padding-top: 0px\;">Irmo Unity: A Celebration of Black History</span></span></span></p>\n\n<p style="margin: 0px\; padding: 10px 0px 0px\; box-sizing: border-box\; color: rgb(111\, 114\, 135)\; font-size: 16px\; line-height: 1.5rem\; font-family: &quot\;Neue Plak&quot\;\, -apple-system\, &quot\;system-ui&quot\;\, Roboto\, &quot\;Helvetica Neue&quot\;\, Helvetica\, Tahoma\, Arial\, sans-serif\;"><span style="font-size:16px\;"><span style="font-family:verdana\;">Embark on a journey through the rich tapestry of Black History of Irmo South Carolina. Join us for an unforgettable evening with soulful music\, delectable food\, meaningful displays\, and a thoughtfully curated program that embraces the past\, celebrates the present\, and envisions a bright future.</span></span></p>\n\n<p style="margin: 0px\; padding: 10px 0px 0px\; box-sizing: border-box\; color: rgb(111\, 114\, 135)\; font-size: 16px\; line-height: 1.5rem\; font-family: &quot\;Neue Plak&quot\;\, -apple-system\, &quot\;system-ui&quot\;\, Roboto\, &quot\;Helvetica Neue&quot\;\, Helvetica\, Tahoma\, Arial\, sans-serif\;"><span style="font-size:16px\;"><span style="font-family:verdana\;"><span style="font-weight: 700\; box-sizing: border-box\; padding-top: 0px\;">Displays:</span>&nbsp\;Walk through displays that chronicle the impactful journey of black history from iconic moments to unsung heroes these exhibits aim to educate and inspire fostering a deeper understanding and appreciation for the contributions of the Irmo Community.</span></span></p>\n\n<p style="margin: 0px\; padding: 10px 0px 0px\; box-sizing: border-box\; color: rgb(111\, 114\, 135)\; font-size: 16px\; line-height: 1.5rem\; font-family: &quot\;Neue Plak&quot\;\, -apple-system\, &quot\;system-ui&quot\;\, Roboto\, &quot\;Helvetica Neue&quot\;\, Helvetica\, Tahoma\, Arial\, sans-serif\;"><span style="font-size:16px\;"><span style="font-family:verdana\;"><span style="font-weight: 700\; box-sizing: border-box\; padding-top: 0px\;">Community Mingle:</span>&nbsp\;Connect with friends\, neighbors\, and new acquaintances in a warm and welcoming atmosphere.</span></span></p>\n\n<p style="margin: 0px\; padding: 10px 0px 0px\; box-sizing: border-box\; color: rgb(111\, 114\, 135)\; font-size: 16px\; line-height: 1.5rem\; font-family: &quot\;Neue Plak&quot\;\, -apple-system\, &quot\;system-ui&quot\;\, Roboto\, &quot\;Helvetica Neue&quot\;\, Helvetica\, Tahoma\, Arial\, sans-serif\;"><span style="font-size:16px\;"><span style="font-family:verdana\;"><span style="font-weight: 700\; box-sizing: border-box\; padding-top: 0px\;">Honoring Past\, Celebrating Present\, Envisioning Future:</span>&nbsp\;The event will feature a program that pays tribute to the achievements and struggles of the past\, celebrates resilience and accomplishments of the present\; and inspires hope for a future where diversity and unity thrive.</span></span></p>\n\n<p style="margin: 0px\; padding: 10px 0px 0px\; box-sizing: border-box\; color: rgb(111\, 114\, 135)\; font-size: 16px\; line-height: 1.5rem\; font-family: &quot\;Neue Plak&quot\;\, -apple-system\, &quot\;system-ui&quot\;\, Roboto\, &quot\;Helvetica Neue&quot\;\, Helvetica\, Tahoma\, Arial\, sans-serif\;"><span style="font-size:16px\;"><span style="font-family:verdana\;"><span style="font-weight: 700\; box-sizing: border-box\; padding-top: 0px\;">Irmo Unity: &ldquo\;A Celebration of Black History&rdquo\;</span>&nbsp\;is a testament to the spirit of unity and resilience that defines the black experience. Join us as we honor the Legacy celebrate the present\, and envision a future where diversity is cherished\, and unity prevails. Let&rsquo\;s unite to make history and create lasting connections within our community. Save the date for an inspiring celebration that promises to leave a lasting impact on hearts and minds.</span></span><br />\n<br />\n&nbsp\;</p>\n\n<div class="font-semibold mb-2" style="box-sizing: border-box\; border-width: 0px\; border-style: solid\; border-color: rgb(229\, 231\, 235)\; --tw-border-spacing-x: 0\; --tw-border-spacing-y: 0\; --tw-translate-x: 0\; --tw-translate-y: 0\; --tw-rotate: 0\; --tw-skew-x: 0\; --tw-skew-y: 0\; --tw-scale-x: 1\; --tw-scale-y: 1\; --tw-pan-x: \; --tw-pan-y: \; --tw-pinch-zoom: \; --tw-scroll-snap-strictness: proximity\; --tw-gradient-from-position: \; --tw-gradient-via-position: \; --tw-gradient-to-position: \; --tw-ordinal: \; --tw-slashed-zero: \; --tw-numeric-figure: \; --tw-numeric-spacing: \; --tw-numeric-fraction: \; --tw-ring-inset: \; --tw-ring-offset-width: 0px\; --tw-ring-offset-color: #fff\; --tw-ring-color: rgb(59 130 246 / 0.5)\; --tw-ring-offset-shadow: 0 0 #0000\; --tw-ring-shadow: 0 0 #0000\; --tw-shadow: 0 0 #0000\; --tw-shadow-colored: 0 0 #0000\; --tw-blur: \; --tw-brightness: \; --tw-contrast: \; --tw-grayscale: \; --tw-hue-rotate: \; --tw-invert: \; --tw-saturate: \; --tw-sepia: \; --tw-drop-shadow: \; --tw-backdrop-blur: \; --tw-backdrop-brightness: \; --tw-backdrop-contrast: \; --tw-backdrop-grayscale: \; --tw-backdrop-hue-rotate: \; --tw-backdrop-invert: \; --tw-backdrop-opacity: \; --tw-backdrop-saturate: \; --tw-backdrop-sepia: \; text-size-adjust: none\; margin-bottom: 8px\; font-weight: 600\; color: rgb(17\, 24\, 39)\; font-family: ui-sans-serif\, system-ui\, -apple-system\, &quot\;system-ui&quot\;\, &quot\;Segoe UI&quot\;\, Roboto\, &quot\;Helvetica Neue&quot\;\, Arial\, &quot\;Noto Sans&quot\;\, sans-serif\, &quot\;Apple Color Emoji&quot\;\, &quot\;Segoe UI Emoji&quot\;\, &quot\;Segoe UI Symbol&quot\;\, &quot\;Noto Color Emoji&quot\;\; font-size: 16px\;">Attire will be semi-formal with music\, hors d&rsquo\;oeuvres\, and captivating displays.</div>\n
LOCATION:Irmo High Center for the Arts 6671 St. Andrews Road Columbia\, SC 29212
UID:e.1333.5324
SEQUENCE:3
DTSTAMP:20260424T111917Z
URL:https://business.greaterirmochamber.com/events/details/irmo-s-black-history-celebration-5324
END:VEVENT

END:VCALENDAR
