BEGIN:VCALENDAR
VERSION:2.0
PRODID:-//ChamberMaster//Event Calendar 2.0//EN
METHOD:PUBLISH
X-PUBLISHED-TTL:P3D
REFRESH-INTERVAL:P3D
CALSCALE:GREGORIAN
BEGIN:VEVENT
DTSTART:20191121T230000Z
DTEND:20191122T020000Z
X-MICROSOFT-CDO-ALLDAYEVENT:FALSE
SUMMARY:Irmo Third Thursday
DESCRIPTION:Join us for Irmo Third Thursday\, a block-party style community event focused on bringing the arts and the business communities together for a night of networking\, fellowship and fun! We'll have food\, beverages\, arts and craft vendors\, local business vendors and live music from Flat Possum to enjoy!  Vendors are encouraged to bring tents\, tables and promotional items to promote your business!
X-ALT-DESC;FMTTYPE=text/html:<span style="font-size:16px\;"><span style="font-family:times new roman\;"><span style="caret-color: rgb(0\, 0\, 0)\; color: rgb(0\, 0\, 0)\;">Join us for Irmo Third Thursday\, a block-party style community event focused on bringing the arts and the business communities together for a night of networking\, fellowship and fun! We&#39\;ll have food\, beverages\, arts and craft vendors\, local business vendors and live music from Flat Possum to enjoy! &nbsp\;Vendors are encouraged to bring tents\, tables and promotional items to promote your business!&nbsp\;</span></span></span>
LOCATION:Irmo Village Shopping Center (behind Lizard's Thicket on St. Andrews Rd.)
UID:e.1333.3389
SEQUENCE:3
DTSTAMP:20260422T160710Z
URL:https://business.greaterirmochamber.com/events/details/irmo-third-thursday-3389
END:VEVENT

END:VCALENDAR
