BEGIN:VCALENDAR
VERSION:2.0
PRODID:-//ChamberMaster//Event Calendar 2.0//EN
METHOD:PUBLISH
X-PUBLISHED-TTL:P3D
REFRESH-INTERVAL:P3D
CALSCALE:GREGORIAN
BEGIN:VEVENT
DTSTART:20121018T213000Z
DTEND:20121018T233000Z
X-MICROSOFT-CDO-ALLDAYEVENT:FALSE
SUMMARY:iYP & LYP Networking Event
DESCRIPTION:Join the Irmo Young Professionals and the Lexington Young Professionals for a great night of networking hosted by South Carolina Bank and Trust in Lexington.\n\n \n\nFree food and drinks!  Live band!\n\n\n\n5109 Sunset Blvd\, Lexington\n\n5:30pm
X-ALT-DESC;FMTTYPE=text/html:<span style="font-size: 12px"><span style="font-family: arial">Join the Irmo Young Professionals and the Lexington Young Professionals for a great night of networking hosted by South Carolina Bank and Trust in Lexington.<br />\n&nbsp\;<br />\n<span style="color: #ff0000"><strong>Free food and drinks!&nbsp\; Live band!</strong></span><br />\n<br />\n<span style="color: black"><strong>5109 Sunset Blvd\, Lexington<br />\n5:30pm</strong></span></span></span>
LOCATION:
UID:e.1333.234
SEQUENCE:3
DTSTAMP:20260422T054301Z
URL:https://business.greaterirmochamber.com/events/details/iyp-lyp-networking-event-10-18-2012-234
END:VEVENT

END:VCALENDAR
