BEGIN:VCALENDAR
VERSION:2.0
PRODID:-//ChamberMaster//Event Calendar 2.0//EN
METHOD:PUBLISH
X-PUBLISHED-TTL:P3D
REFRESH-INTERVAL:P3D
CALSCALE:GREGORIAN
BEGIN:VEVENT
DTSTART:20120216T223000Z
DTEND:20120217T003000Z
X-MICROSOFT-CDO-ALLDAYEVENT:FALSE
SUMMARY:iYP Networking Event
DESCRIPTION:
X-ALT-DESC;FMTTYPE=text/html:
LOCATION:El Chico Mexican Restaurant 1728 Bush River Road\, Columbia
UID:e.1333.171
SEQUENCE:3
DTSTAMP:20260421T184221Z
URL:https://business.greaterirmochamber.com/events/details/iyp-networking-event-02-16-2012-171
END:VEVENT

END:VCALENDAR
