BEGIN:VCALENDAR
VERSION:2.0
PRODID:-//ChamberMaster//Event Calendar 2.0//EN
METHOD:PUBLISH
X-PUBLISHED-TTL:P3D
REFRESH-INTERVAL:P3D
CALSCALE:GREGORIAN
BEGIN:VEVENT
DTSTART:20171214T220000Z
DTEND:20171215T010000Z
X-MICROSOFT-CDO-ALLDAYEVENT:FALSE
SUMMARY:J King Real Estate Ribbon Cutting and Grand Opening
DESCRIPTION:Please join us as we welcome the team at J King Real Estate to our Chamber family!  We'll cut the ribbon around 5:45PM and there will be cocktails\, appetizers and live music to entertain everyone.  Please mark your calendars for this great networking event.
X-ALT-DESC;FMTTYPE=text/html:Please join us as we welcome the team at J King Real Estate to our Chamber family! &nbsp\;We&#39\;ll cut the ribbon around 5:45PM and there will be cocktails\, appetizers and live music to entertain everyone. &nbsp\;Please mark your calendars for this great networking event.
LOCATION:7522 Irmo Drive Suite #4 Columbia\, SC 29212
UID:e.1333.2931
SEQUENCE:3
DTSTAMP:20260424T034604Z
URL:https://business.greaterirmochamber.com/events/details/j-king-real-estate-ribbon-cutting-and-grand-opening-2931
END:VEVENT

END:VCALENDAR
