BEGIN:VCALENDAR
VERSION:2.0
PRODID:-//ChamberMaster//Event Calendar 2.0//EN
METHOD:PUBLISH
X-PUBLISHED-TTL:P3D
REFRESH-INTERVAL:P3D
CALSCALE:GREGORIAN
BEGIN:VEVENT
DTSTART:20180104T123000Z
DTEND:20180104T133000Z
X-MICROSOFT-CDO-ALLDAYEVENT:FALSE
SUMMARY:January 2018 Chamber Breakfast
DESCRIPTION:Please join us for a great morning of networking and fellowship!  The January Chamber Breakfast will be sponsored by one of our Affinity partners\,  LegalShield!
X-ALT-DESC;FMTTYPE=text/html:Please join us for a great morning of networking and fellowship! &nbsp\;The January Chamber Breakfast will be sponsored by one of our Affinity partners\, &nbsp\;<strong>LegalShield</strong><b>!</b>
LOCATION:Greater Irmo Chamber of Commerce 1235 Columbia Ave. Irmo\, SC 29063
UID:e.1333.2926
SEQUENCE:3
DTSTAMP:20260424T020958Z
URL:https://business.greaterirmochamber.com/events/details/january-2018-chamber-breakfast-2926
END:VEVENT

END:VCALENDAR
