BEGIN:VCALENDAR
VERSION:2.0
PRODID:-//ChamberMaster//Event Calendar 2.0//EN
METHOD:PUBLISH
X-PUBLISHED-TTL:P3D
REFRESH-INTERVAL:P3D
CALSCALE:GREGORIAN
BEGIN:VEVENT
DTSTART:20180110T163000Z
DTEND:20180110T180000Z
X-MICROSOFT-CDO-ALLDAYEVENT:FALSE
SUMMARY:January 2018 Chamber Luncheon
DESCRIPTION:Please join us for our January Chamber Luncheon on Wednesday\, January 10\, 2018 from 11:30am-1pm at St. Andrews Presbyterian Church.  This month we will welcome Joe Shenkar\, Legal Counsel for the SC Department of Alcohol and Other Drug Abuse Services (DAODAS)\, the agency leading the battle of the opioid crisis here in SC.   \n\n\n\nFatz Southern Kitchen will serve our lunch and a very special thanks to McGuinn Hybrid Homes for sponsoring this event.
X-ALT-DESC;FMTTYPE=text/html:<span style="font-family: arial\;">Please join us for our&nbsp\;</span><strong style="font-family: arial\;">January Chamber Luncheon</strong><span style="font-family: arial\;">&nbsp\;on&nbsp\;</span><strong style="font-family: arial\;">Wednesday\, January 10\, 2018</strong><span style="font-family: arial\;">&nbsp\;from&nbsp\;</span><strong style="font-family: arial\;">11:30am-1pm</strong><span style="font-family: arial\;">&nbsp\;at&nbsp\;</span><strong style="font-family: arial\;">St. Andrews Presbyterian Church</strong><span style="font-family: arial\;">. &nbsp\;This month we will welcome&nbsp\;</span><strong style="font-family: arial\;">Joe Shenkar\,&nbsp\;</strong><span style="font-family: arial\;"><strong>Legal Counsel for the SC Department of Alcohol and Other Drug Abuse Services (DAODAS)</strong>\, the agency leading the battle of the opioid crisis here in SC. &nbsp\;&nbsp\;</span><br />\n<br style="font-family: arial\;" />\n<b style="font-family: arial\;">Fatz&nbsp\;Southern Kitchen</b><span style="font-family: arial\;">&nbsp\;will serve our lunch and a very special thanks to&nbsp\;</span><strong style="font-family: arial\;">McGuinn&nbsp\;Hybrid Homes</strong><span style="font-family: arial\;">&nbsp\;for sponsoring this event.</span>
LOCATION:St. Andrews Presbyterian Church 6952 St. Andrews Rd. Columbia\, SC 29212
UID:e.1333.2935
SEQUENCE:3
DTSTAMP:20260424T020349Z
URL:https://business.greaterirmochamber.com/events/details/january-2018-chamber-luncheon-2935
END:VEVENT

END:VCALENDAR
