BEGIN:VCALENDAR
VERSION:2.0
PRODID:-//ChamberMaster//Event Calendar 2.0//EN
METHOD:PUBLISH
X-PUBLISHED-TTL:P3D
REFRESH-INTERVAL:P3D
CALSCALE:GREGORIAN
BEGIN:VEVENT
DTSTART:20190109T163000Z
DTEND:20190109T180000Z
X-MICROSOFT-CDO-ALLDAYEVENT:FALSE
SUMMARY:January 2019 Chamber Luncheon
DESCRIPTION:Please join us for our January Chamber Luncheon on Wednesday\, January 9\, 2019 from 11:30am-1pm at St. Andrews Presbyterian Church.  This month\, we will welcome Dr. Rebecca Gunnlaugsson\, an Economist with Acuitas Economics.  Dr. Gunnlaugsson will be discussing tax reform. Special thanks to our partners at Woodforest National Bank for sponsoring this event and we're excited to have Chick-Fil-A Columbiana cater our lunch with desserts from COSTCO!
X-ALT-DESC;FMTTYPE=text/html:<span style="font-family: arial\;">Please join us for our <strong>January</strong></span><strong style="font-family: arial\;">&nbsp\;Chamber Luncheon</strong><span style="font-family: arial\;">&nbsp\;on&nbsp\;</span><strong style="font-family: arial\;">Wednesday\, January 9\, 2019</strong><span style="font-family: arial\;">&nbsp\;from&nbsp\;</span><strong style="font-family: arial\;">11:30am-1pm</strong><span style="font-family: arial\;">&nbsp\;at&nbsp\;</span><strong style="font-family: arial\;">St. Andrews Presbyterian Church</strong><span style="font-family: arial\;">. &nbsp\;This month\, we will welcome</span><font face="arial">&nbsp\;Dr. Rebecca Gunnlaugsson<b>\, an Economist with Acuitas Economics</b>. &nbsp\;Dr. Gunnlaugsson will be discussing tax reform.&nbsp\;Special thanks to our partners at&nbsp\;<strong>Woodforest National Bank&nbsp\;</strong>for sponsoring this event and we&#39\;re excited to have <strong>Chick-Fil-A Columbiana</strong> cater our lunch with desserts from <strong>COSTCO</strong>!</font>
LOCATION:St. Andrews Presbyterian Church 6952 St. Andrews Rd. Columbia\, SC 29212
UID:e.1333.3291
SEQUENCE:3
DTSTAMP:20260423T071215Z
URL:https://business.greaterirmochamber.com/events/details/january-2019-chamber-luncheon-3291
END:VEVENT

END:VCALENDAR
