BEGIN:VCALENDAR
VERSION:2.0
PRODID:-//ChamberMaster//Event Calendar 2.0//EN
METHOD:PUBLISH
X-PUBLISHED-TTL:P3D
REFRESH-INTERVAL:P3D
CALSCALE:GREGORIAN
BEGIN:VEVENT
DTSTART:20171019T150000Z
DTEND:20171020T000000Z
X-MICROSOFT-CDO-ALLDAYEVENT:FALSE
SUMMARY:Jay Criscione & Family Golf Tournament of Hope
DESCRIPTION:Cancer of Many Colors (CMC) is pleased to host the annual Jay Criscione & Family Golf Tournament of Hope at the Golden Hills Country Club.  Proceeds from this event will benefit local cancer survivors with their daily living expenses and emergency needs.\n\nJay Criscione\, former Executive Director for the Lexington County Recreation & Aging Commission was diagnosed with throat cancer in 2007 and passed away with bile duct cancer in 2009. He was an avid golfer and loved playing the game with his father John\, brother Richard and his friends.  John\, former golf teaching pro passed away with breast cancer in 1981. Richard passed away with leukemia in 2007.\n\n\n\nCMC was created in honor of the Criscione family.\n\n  ancer of Many Colors Foundation (CMC) is pleased to host the annual Jay Criscione & Family Golf Tournament of Hope at the Golden Hills Country Club. Proceeds from this event will benefit local cancer survivors with their daily living expenses. \n\n \n\nJay Criscione\, former Executive Director for the Lexington County Recreation & Aging Commission was diagnosed with throat cancer in 2007 and passed away with bile duct cancer in 2009.  He was an avid golfer and loved playing the game with his father John\, brother Richard and his friends.  John\, former golf teaching pro passed away with breast cancer in 1981.  Richard passed away with leukemia in 2007.  \n\n \n\nCMC was created in honor of the Criscione family.\n\nc\n\nC \n\nCancer of Many Colors Foundation (CMC) is pleased to host the annual Jay Criscione & Family Golf Tournament of Hope at the Golden Hills Country Club. Proceeds from this event will benefit local cancer survivors with their daily living expenses. \n\n \n\n \n\n \n\nJay Criscione\, former Executive Director for the Lexington County Recreation & Aging Commission was diagnosed with throat cancer in 2007 and passed away with bile duct cancer in 2009.  He was an avid golfer and loved playing the game with his father John\, brother Richard and his friends.  John\, former golf teaching pro passed away with breast cancer in 1981.  Richard passed away with leukemia in 2007.  \n\n \n\n \n\n \n\nCMC was created in honor of the Criscione family.\n\nan \n\nCancer of Many Colors Foundation (CMC) is pleased to host the annual Jay Criscione & Family Golf Tournament of Hope at the Golden Hills Country Club. Proceeds from this event will benefit local cancer survivors with their daily living expenses. \n\n \n\n \n\n \n\nJay Criscione\, former Executive Director for the Lexington County Recreation & Aging Commission was diagnosed with throat cancer in 2007 and passed away with bile duct cancer in 2009.  He was an avid golfer and loved playing the game with his father John\, brother Richard and his friends.  John\, former golf teaching pro passed away with breast cancer in 1981.  Richard passed away with leukemia in 2007.  \n\n \n\n \n\n \n\nCMC was created in honor of the Criscione family.\n\n \n\nCancer of Many Colors Foundation (CMC) is pleased to host the annual Jay Criscione & Family Golf Tournament of Hope at the Golden Hills Country Club. Proceeds from this event will benefit local cancer survivors with their daily living expenses. \n\n \n\n \n\n \n\nJay Criscione\, former Executive Director for the Lexington County Recreation & Aging Commission was diagnosed with throat cancer in 2007 and passed away with bile duct cancer in 2009.  He was an avid golfer and loved playing the game with his father John\, brother Richard and his friends.  John\, former golf teaching pro passed away with breast cancer in 1981.  Richard passed away with leukemia in 2007.  \n\n \n\n \n\n \n\nCMC was created in honor of the Criscione family.\n\ncer of Many Colors Foundation (CMC) is pleased to host the annual Jay Criscione & Family Golf Tournament of Hope at the Golden Hills Country Club. Proceeds from this event will benefit local cancer survivors with their daily living expenses. \n\n \n\nJay Criscione\, former Executive Director for the Lexington County Recreation & Aging Commission was diagnosed with throat cancer in 2007 and passed away with bile duct cancer in 2009.  He was an avid golfer and loved playing the game with his father John\, brother Richard and his friends.  John\, former golf teaching pro passed away with breast cancer in 1981.  Richard passed away with leukemia in 2007.  \n\n \n\nCMC was created in honor of the Criscione family.\n\ner of Many Colors Foundation (CMC) is pleased to host the annual Jay Criscione & Family Golf Tournament of Hope at the Golden Hills Country Club. Proceeds from this event will benefit local cancer survivors with their daily living expenses. \n\n \n\nJay Criscione\, former Executive Director for the Lexington County Recreation & Aging Commission was diagnosed with throat cancer in 2007 and passed away with bile duct cancer in 2009.  He was an avid golfer and loved playing the game with his father John\, brother Richard and his friends.  John\, former golf teaching pro passed away with breast cancer in 1981.  Richard passed away with leukemia in 2007.  \n\n \n\nCMC was created in honor of the Criscione family.
X-ALT-DESC;FMTTYPE=text/html:<p><span style="font-size:16px"><span style="font-family:comic sans ms">Cancer of Many Colors (CMC) is pleased to host the annual Jay Criscione &amp\; Family Golf Tournament of Hope at the Golden Hills Country Club.&nbsp\; Proceeds from this event will benefit local cancer survivors with their daily living expenses and emergency needs.</span></span></p>\n\n<h3><span style="font-size:16px"><span style="font-family:comic sans ms">Jay Criscione\, former Executive Director for the Lexington County Recreation &amp\; Aging Commission was diagnosed with throat cancer in 2007 and passed away with bile duct cancer in 2009. He was an&nbsp\;avid golfer and loved playing the game with his father John\, brother Richard and his friends.&nbsp\; John\, former golf teaching pro passed away with breast cancer in 1981. Richard passed away with&nbsp\;leukemia in 2007.<br />\n<br />\nCMC was created in honor of the Criscione family.</span></span></h3>\n\n<h2><span style="font-family:comic sans ms">&nbsp\; </span><span style="color:white\; font-family:arial narrow\,sans-serif\; font-size:12pt">ancer of Many Colors Foundation (CMC) is pleased to host the annual Jay Criscione &amp\; Family Golf Tournament of Hope at the Golden Hills Country Club. Proceeds from this event will benefit local cancer survivors with their daily living expenses. </span></h2>\n\n<p><span style="color:white\; font-family:arial narrow\,sans-serif\; font-size:12pt">&nbsp\;</span></p>\n\n<p><span style="color:white\; font-family:arial narrow\,sans-serif\; font-size:12pt">Jay Criscione\, former Executive Director for the Lexington County Recreation &amp\; Aging Commission was diagnosed with throat cancer in 2007 and passed away with bile duct cancer in 2009.&nbsp\; He was an avid golfer and loved playing the game with his father John\, brother Richard and his friends.&nbsp\; John\, former golf teaching pro passed away with breast cancer in 1981.&nbsp\; Richard passed away with leukemia in 2007.&nbsp\; </span></p>\n\n<p><span style="color:white\; font-family:arial narrow\,sans-serif\; font-size:12pt">&nbsp\;</span></p>\n\n<p><span style="color:white\; font-family:arial narrow\,sans-serif\; font-size:12pt">CMC was created in honor of the Criscione family.</span></p>\n\n<p><span style="color:white\; font-family:arial narrow\,sans-serif\; font-size:12pt">c</span></p>\n\n<p><span style="color:white\; font-family:arial narrow\,sans-serif\; font-size:12pt">C </span></p>\n\n<p><span style="color:white\; font-family:arial narrow\,sans-serif\; font-size:12pt"><span style="color:white\; font-family:arial narrow\,sans-serif\; font-size:12pt">Cancer of Many Colors Foundation (CMC) is pleased to host the annual Jay Criscione &amp\; Family Golf Tournament of Hope at the Golden Hills Country Club. Proceeds from this event will benefit local cancer survivors with their daily living expenses. </span></span></p>\n\n<p>&nbsp\;</p>\n\n<p><span style="color:white\; font-family:arial narrow\,sans-serif\; font-size:12pt"><span style="color:white\; font-family:arial narrow\,sans-serif\; font-size:12pt">&nbsp\;</span></span></p>\n\n<p>&nbsp\;</p>\n\n<p><span style="color:white\; font-family:arial narrow\,sans-serif\; font-size:12pt"><span style="color:white\; font-family:arial narrow\,sans-serif\; font-size:12pt">Jay Criscione\, former Executive Director for the Lexington County Recreation &amp\; Aging Commission was diagnosed with throat cancer in 2007 and passed away with bile duct cancer in 2009.&nbsp\; He was an avid golfer and loved playing the game with his father John\, brother Richard and his friends.&nbsp\; John\, former golf teaching pro passed away with breast cancer in 1981.&nbsp\; Richard passed away with leukemia in 2007.&nbsp\; </span></span></p>\n\n<p>&nbsp\;</p>\n\n<p><span style="color:white\; font-family:arial narrow\,sans-serif\; font-size:12pt"><span style="color:white\; font-family:arial narrow\,sans-serif\; font-size:12pt">&nbsp\;</span></span></p>\n\n<p>&nbsp\;</p>\n\n<p><span style="color:white\; font-family:arial narrow\,sans-serif\; font-size:12pt"><span style="color:white\; font-family:arial narrow\,sans-serif\; font-size:12pt">CMC was created in honor of the Criscione family.</span></span></p>\n\n<p><span style="color:white\; font-family:arial narrow\,sans-serif\; font-size:12pt">an </span></p>\n\n<p><span style="color:white\; font-family:arial narrow\,sans-serif\; font-size:12pt"><span style="color:white\; font-family:arial narrow\,sans-serif\; font-size:12pt">Cancer of Many Colors Foundation (CMC) is pleased to host the annual Jay Criscione &amp\; Family Golf Tournament of Hope at the Golden Hills Country Club. Proceeds from this event will benefit local cancer survivors with their daily living expenses. </span></span></p>\n\n<p>&nbsp\;</p>\n\n<p><span style="color:white\; font-family:arial narrow\,sans-serif\; font-size:12pt"><span style="color:white\; font-family:arial narrow\,sans-serif\; font-size:12pt">&nbsp\;</span></span></p>\n\n<p>&nbsp\;</p>\n\n<p><span style="color:white\; font-family:arial narrow\,sans-serif\; font-size:12pt"><span style="color:white\; font-family:arial narrow\,sans-serif\; font-size:12pt">Jay Criscione\, former Executive Director for the Lexington County Recreation &amp\; Aging Commission was diagnosed with throat cancer in 2007 and passed away with bile duct cancer in 2009.&nbsp\; He was an avid golfer and loved playing the game with his father John\, brother Richard and his friends.&nbsp\; John\, former golf teaching pro passed away with breast cancer in 1981.&nbsp\; Richard passed away with leukemia in 2007.&nbsp\; </span></span></p>\n\n<p>&nbsp\;</p>\n\n<p><span style="color:white\; font-family:arial narrow\,sans-serif\; font-size:12pt"><span style="color:white\; font-family:arial narrow\,sans-serif\; font-size:12pt">&nbsp\;</span></span></p>\n\n<p>&nbsp\;</p>\n\n<p><span style="color:white\; font-family:arial narrow\,sans-serif\; font-size:12pt"><span style="color:white\; font-family:arial narrow\,sans-serif\; font-size:12pt">CMC was created in honor of the Criscione family.</span></span></p>\n\n<p>&nbsp\;</p>\n\n<p><span style="color:white\; font-family:arial narrow\,sans-serif\; font-size:12pt"><span style="color:white\; font-family:arial narrow\,sans-serif\; font-size:12pt">Cancer of Many Colors Foundation (CMC) is pleased to host the annual Jay Criscione &amp\; Family Golf Tournament of Hope at the Golden Hills Country Club. Proceeds from this event will benefit local cancer survivors with their daily living expenses. </span></span></p>\n\n<p>&nbsp\;</p>\n\n<p><span style="color:white\; font-family:arial narrow\,sans-serif\; font-size:12pt"><span style="color:white\; font-family:arial narrow\,sans-serif\; font-size:12pt">&nbsp\;</span></span></p>\n\n<p>&nbsp\;</p>\n\n<p><span style="color:white\; font-family:arial narrow\,sans-serif\; font-size:12pt"><span style="color:white\; font-family:arial narrow\,sans-serif\; font-size:12pt">Jay Criscione\, former Executive Director for the Lexington County Recreation &amp\; Aging Commission was diagnosed with throat cancer in 2007 and passed away with bile duct cancer in 2009.&nbsp\; He was an avid golfer and loved playing the game with his father John\, brother Richard and his friends.&nbsp\; John\, former golf teaching pro passed away with breast cancer in 1981.&nbsp\; Richard passed away with leukemia in 2007.&nbsp\; </span></span></p>\n\n<p>&nbsp\;</p>\n\n<p><span style="color:white\; font-family:arial narrow\,sans-serif\; font-size:12pt"><span style="color:white\; font-family:arial narrow\,sans-serif\; font-size:12pt">&nbsp\;</span></span></p>\n\n<p>&nbsp\;</p>\n\n<p><span style="color:white\; font-family:arial narrow\,sans-serif\; font-size:12pt"><span style="color:white\; font-family:arial narrow\,sans-serif\; font-size:12pt">CMC was created in honor of the Criscione family.</span></span></p>\n\n<p><span style="color:white\; font-family:arial narrow\,sans-serif\; font-size:12pt">cer of Many Colors Foundation (CMC) is pleased to host the annual Jay Criscione &amp\; Family Golf Tournament of Hope at the Golden Hills Country Club. Proceeds from this event will benefit local cancer survivors with their daily living expenses. </span></p>\n\n<p><span style="color:white\; font-family:arial narrow\,sans-serif\; font-size:12pt">&nbsp\;</span></p>\n\n<p><span style="color:white\; font-family:arial narrow\,sans-serif\; font-size:12pt">Jay Criscione\, former Executive Director for the Lexington County Recreation &amp\; Aging Commission was diagnosed with throat cancer in 2007 and passed away with bile duct cancer in 2009.&nbsp\; He was an avid golfer and loved playing the game with his father John\, brother Richard and his friends.&nbsp\; John\, former golf teaching pro passed away with breast cancer in 1981.&nbsp\; Richard passed away with leukemia in 2007.&nbsp\; </span></p>\n\n<p><span style="color:white\; font-family:arial narrow\,sans-serif\; font-size:12pt">&nbsp\;</span></p>\n\n<p><span style="color:white\; font-family:arial narrow\,sans-serif\; font-size:12pt">CMC was created in honor of the Criscione family.</span></p>\n\n<p><span style="color:white\; font-family:arial narrow\,sans-serif\; font-size:12pt">er of Many Colors Foundation (CMC) is pleased to host the annual Jay Criscione &amp\; Family Golf Tournament of Hope at the Golden Hills Country Club. Proceeds from this event will benefit local cancer survivors with their daily living expenses. </span></p>\n\n<p><span style="color:white\; font-family:arial narrow\,sans-serif\; font-size:12pt">&nbsp\;</span></p>\n\n<p><span style="color:white\; font-family:arial narrow\,sans-serif\; font-size:12pt">Jay Criscione\, former Executive Director for the Lexington County Recreation &amp\; Aging Commission was diagnosed with throat cancer in 2007 and passed away with bile duct cancer in 2009.&nbsp\; He was an avid golfer and loved playing the game with his father John\, brother Richard and his friends.&nbsp\; John\, former golf teaching pro passed away with breast cancer in 1981.&nbsp\; Richard passed away with leukemia in 2007.&nbsp\; </span></p>\n\n<p><span style="color:white\; font-family:arial narrow\,sans-serif\; font-size:12pt">&nbsp\;</span></p>\n\n<p><span style="color:white\; font-family:arial narrow\,sans-serif\; font-size:12pt">CMC was created in honor of the Criscione family.</span></p>\n
LOCATION:Golden Hills Country Club Lexington\, SC 29072 www.goldenhillsgolf.com/golf
UID:e.1333.2794
SEQUENCE:3
DTSTAMP:20260424T065341Z
URL:https://business.greaterirmochamber.com/events/details/jay-criscione-family-golf-tournament-of-hope-2794
END:VEVENT

END:VCALENDAR
