BEGIN:VCALENDAR
VERSION:2.0
PRODID:-//ChamberMaster//Event Calendar 2.0//EN
METHOD:PUBLISH
X-PUBLISHED-TTL:P3D
REFRESH-INTERVAL:P3D
CALSCALE:GREGORIAN
BEGIN:VEVENT
DTSTART:20170314T233000Z
DTEND:20170315T020000Z
X-MICROSOFT-CDO-ALLDAYEVENT:FALSE
SUMMARY:Joel Sartore: Building the Photo Ark
DESCRIPTION:National Geographic photographer Joel Sartore is?on a mission to capture portraits of the world’s species before they disappear. With ingenuity\, wit\, and a serious Midwestern work ethic\, Sartore has?created the Photo Ark project\, the largest?archive of its kind with nearly 5\,000 images?and counting. Hear about his comical mishaps\, endearing encounters\, and personal stories while documenting a world worth saving.
X-ALT-DESC;FMTTYPE=text/html:National Geographic photographer Joel Sartore is?on a mission to capture portraits of the world’s species before they disappear. With ingenuity\, wit\, and a serious Midwestern work ethic\, Sartore has?created the Photo Ark project\, the largest?archive of its kind with nearly 5\,000 images?and counting. Hear about his comical mishaps\, endearing encounters\, and personal stories while documenting a world worth saving. \n
LOCATION:Harbison Theatre at Midlands Technical College 7300 College Street Irmo\, SC 29063 803-407-5011
UID:e.1333.2458
SEQUENCE:3
DTSTAMP:20260424T171844Z
URL:https://business.greaterirmochamber.com/events/details/joel-sartore-building-the-photo-ark-03-14-2017-2458
END:VEVENT

END:VCALENDAR
