BEGIN:VCALENDAR
VERSION:2.0
PRODID:-//ChamberMaster//Event Calendar 2.0//EN
METHOD:PUBLISH
X-PUBLISHED-TTL:P3D
REFRESH-INTERVAL:P3D
CALSCALE:GREGORIAN
BEGIN:VEVENT
DTSTART:20170205T003000Z
DTEND:20170205T030000Z
X-MICROSOFT-CDO-ALLDAYEVENT:FALSE
SUMMARY:Judy Carmichael
DESCRIPTION:Nicknamed “Stride” by ?the great Count Basie\, GRAMMY-nominated pianist and vocalist Judy Carmichael is one of the world’s leading interpreters of stride piano and swing. Revered by musicians for her technical prowess and equally embraced by audiences for her warm\, engaging? style\, she’ll bring her massive catalog of originals and covers to the Midlands stage for the first time.
X-ALT-DESC;FMTTYPE=text/html:Nicknamed “Stride” by ?the great Count Basie\, GRAMMY-nominated pianist and vocalist Judy Carmichael is one of the world’s leading interpreters of stride piano and swing. Revered by musicians for her technical prowess and equally embraced by audiences for her warm\, engaging? style\, she’ll bring her massive catalog of originals and covers to the Midlands stage for the first time. \n
LOCATION:Harbison Theatre at Midlands Technical College 7300 College Street Irmo\, SC 29063 803-407-5011
UID:e.1333.2451
SEQUENCE:3
DTSTAMP:20260424T184851Z
URL:https://business.greaterirmochamber.com/events/details/judy-carmichael-02-04-2017-2451
END:VEVENT

END:VCALENDAR
