BEGIN:VCALENDAR
VERSION:2.0
PRODID:-//ChamberMaster//Event Calendar 2.0//EN
METHOD:PUBLISH
X-PUBLISHED-TTL:P3D
REFRESH-INTERVAL:P3D
CALSCALE:GREGORIAN
BEGIN:VEVENT
DTSTART:20170713T113000Z
DTEND:20170713T123000Z
X-MICROSOFT-CDO-ALLDAYEVENT:FALSE
SUMMARY:July Chamber Breakfast
DESCRIPTION:Join us for a fun hour of networking and a delicious breakfast!  Only 25 seats available so register now!\n\n\n\nSpecial thanks to Binswanger Glass for sponsoring this event!
X-ALT-DESC;FMTTYPE=text/html:Join us for a fun hour of networking and a delicious breakfast! &nbsp\;Only 25 seats available so register now!<br />\n<br />\nSpecial thanks to Binswanger Glass for sponsoring this event!
LOCATION:Greater Irmo Chamber of Commerce
UID:e.1333.2548
SEQUENCE:3
DTSTAMP:20260424T112118Z
URL:https://business.greaterirmochamber.com/events/details/july-chamber-breakfast-2548
END:VEVENT

END:VCALENDAR
