BEGIN:VCALENDAR
VERSION:2.0
PRODID:-//ChamberMaster//Event Calendar 2.0//EN
METHOD:PUBLISH
X-PUBLISHED-TTL:P3D
REFRESH-INTERVAL:P3D
CALSCALE:GREGORIAN
BEGIN:VEVENT
DTSTART:20180607T120000Z
DTEND:20180607T130000Z
X-MICROSOFT-CDO-ALLDAYEVENT:FALSE
SUMMARY:June 2018 Chamber Breakfast
DESCRIPTION:Please join us for a great morning of networking and fellowship!  Special thanks to the Beth Carrigg for Lexington County Council District 7 for sponsoring this event and to Gayle Urban with Dish It Out Catering for serving a delicious breakfast!
X-ALT-DESC;FMTTYPE=text/html:Please join us for a great morning of networking and fellowship!&nbsp\;&nbsp\;Special thanks to the&nbsp\;<b>Beth Carrigg for Lexington County Council District 7</b>&nbsp\;for sponsoring this event and to Gayle Urban with <strong>Dish It Out Catering</strong> for serving a delicious breakfast!
LOCATION:Greater Irmo Chamber of Commerce 1235 Columbia Ave. Irmo\, SC 29063
UID:e.1333.2999
SEQUENCE:3
DTSTAMP:20260423T180305Z
URL:https://business.greaterirmochamber.com/events/details/june-2018-chamber-breakfast-2999
END:VEVENT

END:VCALENDAR
