BEGIN:VCALENDAR
VERSION:2.0
PRODID:-//ChamberMaster//Event Calendar 2.0//EN
METHOD:PUBLISH
X-PUBLISHED-TTL:P3D
REFRESH-INTERVAL:P3D
CALSCALE:GREGORIAN
BEGIN:VEVENT
DTSTART:20180613T153000Z
DTEND:20180613T170000Z
X-MICROSOFT-CDO-ALLDAYEVENT:FALSE
SUMMARY:June 2018 Chamber Luncheon
DESCRIPTION:Please join us for our June Chamber Luncheon on Wednesday\, June 13\, 2018 from 11:30am-1pm at St. Andrews Presbyterian Church.  This month\, we will welcome Amy Beth Franks\, Executive Director of the Five Points Association.  Special thanks to Mid Carolina Electric Cooperative for sponsoring this event.\n\nCarolina Ale House will be our caterer!
X-ALT-DESC;FMTTYPE=text/html:<span style="font-family: arial\;">Please join us for our <strong>June</strong></span><strong style="font-family: arial\;">&nbsp\;Chamber Luncheon</strong><span style="font-family: arial\;">&nbsp\;on&nbsp\;</span><strong style="font-family: arial\;">Wednesday\, June 13\, 2018</strong><span style="font-family: arial\;">&nbsp\;from&nbsp\;</span><strong style="font-family: arial\;">11:30am-1pm</strong><span style="font-family: arial\;">&nbsp\;at&nbsp\;</span><strong style="font-family: arial\;">St. Andrews Presbyterian Church</strong><span style="font-family: arial\;">. &nbsp\;This month\, we will welcome</span><font face="arial">&nbsp\;<b>Amy Beth Franks</b>\, Executive Director of the <strong>Five Points Association</strong>.&nbsp\; Special thanks to <strong>Mid Carolina Electric Cooperative</strong>&nbsp\;for sponsoring this event.<br />\nCarolina Ale House will be our caterer!&nbsp\;&nbsp\;</font>
LOCATION:St. Andrews Presbyterian Church 6952 St. Andrews Rd. Columbia\, SC 29212
UID:e.1333.3002
SEQUENCE:3
DTSTAMP:20260423T193540Z
URL:https://business.greaterirmochamber.com/events/details/june-2018-chamber-luncheon-3002
END:VEVENT

END:VCALENDAR
