BEGIN:VCALENDAR
VERSION:2.0
PRODID:-//ChamberMaster//Event Calendar 2.0//EN
METHOD:PUBLISH
X-PUBLISHED-TTL:P3D
REFRESH-INTERVAL:P3D
CALSCALE:GREGORIAN
BEGIN:VEVENT
DTSTART:20190612T153000Z
DTEND:20190612T170000Z
X-MICROSOFT-CDO-ALLDAYEVENT:FALSE
SUMMARY:June 2019 Chamber Luncheon
DESCRIPTION:Please join us for our June Chamber Luncheon on Wednesday\, June 12\, 2019 from 11:30am-1pm at St. Andrews Presbyterian Church.   This month\, we will welcome Spencer Combs\, a life coach\, business coach\, speaker and national trainer. A big thank you to our friends over at Security Federal Bank for sponsoring this event and we are pleased to announce that our Emerald Partners at Carrabba's will be catering!  In addition to Spencer's program\, we will also reveal the winners of the 2019 GutBusters Challenge.
X-ALT-DESC;FMTTYPE=text/html:<span style="font-family: arial\;">Please join us for our <strong>June</strong></span><strong style="font-family: arial\;">&nbsp\;Chamber Luncheon</strong><span style="font-family: arial\;">&nbsp\;on&nbsp\;</span><strong style="font-family: arial\;">Wednesday\, June 12\, 2019</strong><span style="font-family: arial\;">&nbsp\;from&nbsp\;</span><strong style="font-family: arial\;">11:30am-1pm</strong><span style="font-family: arial\;">&nbsp\;at&nbsp\;</span><strong style="font-family: arial\;">St. Andrews Presbyterian Church</strong><span style="font-family: arial\;">. &nbsp\;</span><font face="arial">&nbsp\;This month\, we will welcome <strong>Spencer Combs</strong>\, a life coach\, business coach\, speaker and national trainer. A big thank you to our friends over at <strong>Security Federal Bank</strong> for sponsoring this event and we are pleased to announce that our Emerald Partners at <strong>Carrabba&#39\;s</strong> will be catering! &nbsp\;In addition to Spencer&#39\;s program\, we will also reveal the winners of the 2019 GutBusters Challenge.</font>
LOCATION:St. Andrews Presbyterian Church 6952 St. Andrews Rd. Columbia\, SC 29212
UID:e.1333.3326
SEQUENCE:3
DTSTAMP:20260422T231214Z
URL:https://business.greaterirmochamber.com/events/details/june-2019-chamber-luncheon-3326
END:VEVENT

END:VCALENDAR
