BEGIN:VCALENDAR
VERSION:2.0
PRODID:-//ChamberMaster//Event Calendar 2.0//EN
METHOD:PUBLISH
X-PUBLISHED-TTL:P3D
REFRESH-INTERVAL:P3D
CALSCALE:GREGORIAN
BEGIN:VEVENT
DTSTART:20260610T153000Z
DTEND:20260610T170000Z
X-MICROSOFT-CDO-ALLDAYEVENT:FALSE
SUMMARY:June 2026 Partner Luncheon
DESCRIPTION:Please join us for our June Partner Luncheon on Wednesday\, June 10\, 2026 from 11:30am-1pm at St. Andrews Presbyterian Church.  This month\, we are pleased to welcome Michael Burgess\, a teacher with the Center for Law and Global Policy Development at River Bluff High School in Lexington and the 2023 SC History Teacher of the Year.  Mr. Burgess will discuss the challenges of teaching the American Revolution in the 21st century.\n\n\n\nThank you to the Palmetto Citizens Federal Credit Union for presenting this event!\n\n\n\nTickets are $15 in advance or $20 at the door for members.   $30 for potential members.  If you are an Influencer partner and above\, Law Enforcement\, First Responder OR a Lunch Card Holder\, please email Ginger to reserve your lunch.(events@greaterirmochamber.com) \n\n\n\nAudio visual and digital presence is provided by Cut Throat Marketing.
X-ALT-DESC;FMTTYPE=text/html:<span style="background-image:none\;background-position:0% 0%\;background-size:auto\;background-repeat:repeat\;background-attachment:scroll\;background-origin:padding-box\;background-clip:border-box\;"><span style="color:#333333\;"><span style="font-family:verdana\,sans-serif\;"><span style="font-size:18pt\;">Please join us for our&nbsp\;<strong>June Partner Luncheon</strong>&nbsp\;on&nbsp\;<strong>Wednesday\, June 10\, 2026</strong>&nbsp\;from&nbsp\;<strong>11:30am-1pm</strong>&nbsp\;at&nbsp\;<strong>St. Andrews Presbyterian Church. &nbsp\;</strong></span></span></span></span><span style="background-image:none\;background-position:0% 0%\;background-size:auto\;background-repeat:repeat\;background-attachment:scroll\;background-origin:padding-box\;background-clip:border-box\;"><span style="color:#333333\;"><span style="font-family:verdana\,sans-serif\;"><span style="font-size:18pt\;">This month\, we are pleased to welcome&nbsp\;<strong>Michael Burgess</strong>\, a&nbsp\;teacher with the&nbsp\;Center for Law and Global Policy Development at River Bluff High School in Lexington and the 2023 SC History Teacher of the Year. &nbsp\;Mr. Burgess will discuss the challenges of teaching the American Revolution in the 21st century.</span></span></span></span><br />\n<br />\n<span style="background-image:none\;background-position:0% 0%\;background-size:auto\;background-repeat:repeat\;background-attachment:scroll\;background-origin:padding-box\;background-clip:border-box\;"><span style="color:#333333\;"><span style="font-family:verdana\,sans-serif\;"><span style="font-size:18pt\;">Thank you to the&nbsp\;<strong>Palmetto Citizens Federal Credit Union</strong>&nbsp\;for presenting this event!<br />\n<br />\n<strong>Tickets are $15 in advance or $20 at the door for members.&nbsp\;</strong>&nbsp\;&nbsp\;<strong>$30 for potential members.</strong>&nbsp\;&nbsp\;<strong>If you are an Influencer partner and above\, Law Enforcement\,&nbsp\;First Responder OR a Lunch Card Holder\, please email Ginger to reserve your lunch.</strong>(<a href="mailto:ceo@greaterirmochamber.com">e</a><a href="mailto:events@greaterirmochamber.com">vents@greaterirmochamber.com</a>)&nbsp\;<br />\n<br />\nAudio visual and digital presence&nbsp\;is provided by&nbsp\;<strong>Cut Throat Marketing.</strong></span></span></span></span><br />\n<br />\n<br />\n&nbsp\;
LOCATION:St. Andrews Presbyterian Church 6952 St. Andrews Rd. (across from Murraywood Center)
UID:e.1333.6494
SEQUENCE:3
DTSTAMP:20260424T072945Z
URL:https://business.greaterirmochamber.com/events/details/june-2026-partner-luncheon-6494
END:VEVENT

END:VCALENDAR
