BEGIN:VCALENDAR
VERSION:2.0
PRODID:-//ChamberMaster//Event Calendar 2.0//EN
METHOD:PUBLISH
X-PUBLISHED-TTL:P3D
REFRESH-INTERVAL:P3D
CALSCALE:GREGORIAN
BEGIN:VEVENT
DTSTART:20190611T203000Z
DTEND:20190611T223000Z
X-MICROSOFT-CDO-ALLDAYEVENT:FALSE
SUMMARY:June Chamber After Hours at Carrabba's Columbiana
DESCRIPTION:Carrabba's Italian Grill\, one of our Emerald Partners\, will be hosting the Irmo Chamber for an After Hours on June 11\, 2019 from 4:30PM-6:30PM.  Come enjoy happy hour specials\, specialty cocktails and complimentary appetizers while you do some networking.  We'll also have door prizes so bring your business cards!
X-ALT-DESC;FMTTYPE=text/html:<font class="SmallText">Carrabba&#39\;s Italian Grill\, one of our Emerald Partners\, will be hosting the Irmo Chamber for an After Hours on June 11\, 2019 from 4:30PM-6:30PM. &nbsp\;Come enjoy happy hour specials\, specialty cocktails and complimentary appetizers while you do some networking. &nbsp\;We&#39\;ll also have door prizes so bring your business cards!</font>
LOCATION:370 Columbiana Drive Columbia\, SC 29212
UID:e.1333.3325
SEQUENCE:3
DTSTAMP:20260422T231515Z
URL:https://business.greaterirmochamber.com/events/details/june-chamber-after-hours-at-carrabba-s-columbiana-3325
END:VEVENT

END:VCALENDAR
