BEGIN:VCALENDAR
VERSION:2.0
PRODID:-//ChamberMaster//Event Calendar 2.0//EN
METHOD:PUBLISH
X-PUBLISHED-TTL:P3D
REFRESH-INTERVAL:P3D
CALSCALE:GREGORIAN
BEGIN:VEVENT
DTSTART:20191109T003000Z
DTEND:20191109T023000Z
X-MICROSOFT-CDO-ALLDAYEVENT:FALSE
SUMMARY:Kalen Allen – Social Media Sensation
DESCRIPTION:Social media sensation Kalen Allen has catapulted into mainstream media\, reaching millions of people worldwide across his social media platforms. The award-nominated actor\, producer\, and hilarious television personality was discovered in 2018 by Ellen DeGeneres. He made a name for himself through his funny "Kalen Reacts" videos\, giving colorful and clever commentary on culinary concoctions. Today\, Kalen holds a regular guest spot on "The Ellen DeGeneres Show" and often takes his trademark wide-brimmed red hat and infectious personality to high-profile events. In this traveling show\, he'll bring his comedic genius to the HT@MTC stage.
X-ALT-DESC;FMTTYPE=text/html:Social media sensation Kalen Allen has catapulted into mainstream media\, reaching millions of people worldwide across his social media platforms. The award-nominated actor\, producer\, and hilarious television personality was discovered in 2018 by Ellen DeGeneres. He made a name for himself through his funny &ldquo\;Kalen Reacts&rdquo\; videos\, giving colorful and clever commentary on culinary concoctions. Today\, Kalen holds a regular guest spot on &ldquo\;The Ellen DeGeneres Show&rdquo\; and often takes his trademark wide-brimmed red hat and infectious personality to high-profile events. In this traveling show\, he&rsquo\;ll bring his comedic genius to the HT@MTC stage.
LOCATION:Harbison Theatre at Midlands Technical College
UID:e.1333.3391
SEQUENCE:3
DTSTAMP:20260422T161218Z
URL:https://business.greaterirmochamber.com/events/details/kalen-allen-social-media-sensation-3391
END:VEVENT

END:VCALENDAR
