BEGIN:VCALENDAR
VERSION:2.0
PRODID:-//ChamberMaster//Event Calendar 2.0//EN
METHOD:PUBLISH
X-PUBLISHED-TTL:P3D
REFRESH-INTERVAL:P3D
CALSCALE:GREGORIAN
BEGIN:VEVENT
DTSTART:20180606T153000Z
DTEND:20180606T163000Z
X-MICROSOFT-CDO-ALLDAYEVENT:FALSE
SUMMARY:Kay Plumbing Ribbon Cutting
DESCRIPTION:Please join us as we cut the ribbon on the new Kay Plumbing location in Lexington. Konrad and his team will have a light lunch available and we'll cut the ribbon at 11:45am.  Hope to see you there!
X-ALT-DESC;FMTTYPE=text/html:Please join us as we cut the ribbon on the new <strong>Kay Plumbing</strong> location in Lexington. Konrad and his team will have a light lunch available and we&#39\;ll cut the ribbon at 11:45am. &nbsp\;Hope to see you there!
LOCATION:199 Alta Vista Ct. Lexington\, SC 29073
UID:e.1333.2991
SEQUENCE:3
DTSTAMP:20260423T180530Z
URL:https://business.greaterirmochamber.com/events/details/kay-plumbing-ribbon-cutting-2991
END:VEVENT

END:VCALENDAR
