BEGIN:VCALENDAR
VERSION:2.0
PRODID:-//ChamberMaster//Event Calendar 2.0//EN
METHOD:PUBLISH
X-PUBLISHED-TTL:P3D
REFRESH-INTERVAL:P3D
CALSCALE:GREGORIAN
BEGIN:VEVENT
DTSTART:20170310T230000Z
DTEND:20170311T030000Z
X-MICROSOFT-CDO-ALLDAYEVENT:FALSE
SUMMARY:KEMOPALOOZA - VOLUNTEERS NEEDED
DESCRIPTION:Volunteers needed for Palmetto Health's KEMOPALOOZA to benefit Camp Kemo!  Volunteers must be 21 years of age and older.
X-ALT-DESC;FMTTYPE=text/html:Volunteers needed for Palmetto Health&#39\;s KEMOPALOOZA to benefit Camp Kemo! &nbsp\;Volunteers must be 21 years of age and older.
LOCATION:City Roots Urban Farm
UID:e.1333.2515
SEQUENCE:3
DTSTAMP:20260424T171510Z
URL:https://business.greaterirmochamber.com/events/details/kemopalooza-volunteers-needed-2515
END:VEVENT

END:VCALENDAR
