BEGIN:VCALENDAR
VERSION:2.0
PRODID:-//ChamberMaster//Event Calendar 2.0//EN
METHOD:PUBLISH
X-PUBLISHED-TTL:P3D
REFRESH-INTERVAL:P3D
CALSCALE:GREGORIAN
BEGIN:VEVENT
DTSTART;VALUE=DATE:20180917
DTEND;VALUE=DATE:20180918
TRANSP:TRANSPARENT
X-MICROSOFT-CDO-ALLDAYEVENT:TRUE
SUMMARY:Kenny Wolfe Foundation Golf Tournament
DESCRIPTION:Kenny Wolfe Foundation Golf Tournament\n\nTEAMS & SPONSORSHIPS AVAILABLE
X-ALT-DESC;FMTTYPE=text/html:Kenny Wolfe Foundation Golf Tournament<br />\nTEAMS &amp\; SPONSORSHIPS AVAILABLE<br />\n&nbsp\;
LOCATION:Cobblestone Park 280 University Club Parkway Blythewood\, SC
UID:e.1333.3260
SEQUENCE:3
DTSTAMP:20260423T145532Z
URL:https://business.greaterirmochamber.com/events/details/kenny-wolfe-foundation-golf-tournament-3260
END:VEVENT

END:VCALENDAR
