BEGIN:VCALENDAR
VERSION:2.0
PRODID:-//ChamberMaster//Event Calendar 2.0//EN
METHOD:PUBLISH
X-PUBLISHED-TTL:P3D
REFRESH-INTERVAL:P3D
CALSCALE:GREGORIAN
BEGIN:VEVENT
DTSTART:20251111T220000Z
DTEND:20251112T010000Z
X-MICROSOFT-CDO-ALLDAYEVENT:FALSE
SUMMARY:Kerryoke Night at the #FunChamber!
DESCRIPTION:Calling all singers and even those who don't sing!!!!!\n\n\n\nJoin us for another edition of Kerryoke Night at the #FunChamber!  Come enjoy watching your fellow #FunChamber partners belt out some tunes on the back patio.  We'll have beverages including a Signature Drink from Residence Inn by Marriott\, appetizers and JJ the DJ will start taking requests at 5PM.  This is always a great (and hilarious) time! \n\n\n\nA big thank you to Cut Throat Marketing for presenting this event!
X-ALT-DESC;FMTTYPE=text/html:<span style="font-size:18px\;"><span style="font-family: verdana\;">Calling all&nbsp\;<strong>singers</strong>&nbsp\;and even those who don&#39\;t sing!!!!!<br />\n<br />\nJoin us for another edition of&nbsp\;<strong>Kerryoke Night at the</strong>&nbsp\;<strong>#FunChamber</strong>! &nbsp\;Come enjoy&nbsp\;watching your fellow&nbsp\;<strong>#FunChamber</strong>&nbsp\;partners belt out some tunes on the back patio. &nbsp\;We&#39\;ll have beverages including a <strong>Signature Drink from Residence Inn by Marriott</strong>\, appetizers&nbsp\;and <strong>JJ</strong>&nbsp\;the <strong>DJ</strong>&nbsp\;will start taking requests at 5PM.&nbsp\; This is always a great&nbsp\;<strong>(and hilarious)</strong>&nbsp\;time!&nbsp\;<br />\n<br />\nA big thank you to&nbsp\;<strong>Cut Throat Marketing</strong>&nbsp\;for presenting this event!</span></span>
LOCATION:Irmo Chamber House 1235 Columbia Ave. Irmo\, SC 29063
UID:e.1333.6061
SEQUENCE:3
DTSTAMP:20260423T011359Z
URL:https://business.greaterirmochamber.com/events/details/kerryoke-night-at-the-funchamber-6061
END:VEVENT

END:VCALENDAR
