BEGIN:VCALENDAR
VERSION:2.0
PRODID:-//ChamberMaster//Event Calendar 2.0//EN
METHOD:PUBLISH
X-PUBLISHED-TTL:P3D
REFRESH-INTERVAL:P3D
CALSCALE:GREGORIAN
BEGIN:VEVENT
DTSTART:20260331T210000Z
DTEND:20260401T000000Z
X-MICROSOFT-CDO-ALLDAYEVENT:FALSE
SUMMARY:Kerryoke Night at the #FunChamber!
DESCRIPTION:Since 2021\, the Irmo Chamber has been hosting Kerryoke Night (karaoke) at the #FunChamber.  This series is unique to our culture and it's always a fun time!\n\n\n\nJoin us for the first Kerryoke Night of 2026 on Tuesday\, March 31st from 5PM-8PM at the Irmo Chamber House!  This year\, we're mixing things up a bit and the March 31st event will feature songs from the 70's and 80's!\n\n\n\nIf you're a singer\, start putting together your playlist for DJ JJ.  Not a singer?  Terrified to sing but always wanted to try?  We have plenty of folks who will entertain you!\n\n\n\nCome experience the fun\, fellowship and networking of Kerryoke Night at the #FunChamber!  Special thanks to Cut Throat Marketing for presenting this event.  Appetizers provided by Chef Tom and Jen at Lil' House of Pizza!
X-ALT-DESC;FMTTYPE=text/html:<span style="font-size:16px\;"><span style="font-family:verdana\;">Since 2021\, the <strong>Irmo Chamber</strong> has been hosting <strong>Kerryoke Night (karaoke) at the #FunChamber</strong>. &nbsp\;This series is unique to our culture and it&#39\;s always a fun time!<br />\n<br />\nJoin us for the first <strong>Kerryoke Night of 2026</strong> on Tuesday\, March 31st from 5PM-8PM at the Irmo Chamber House! &nbsp\;This year\, we&#39\;re mixing things up a bit and the March 31st event will feature <strong>songs from the 70&#39\;s and 80&#39\;s</strong>!<br />\n<br />\nIf you&#39\;re a singer\, start putting together your playlist for DJ JJ. &nbsp\;Not a singer? &nbsp\;Terrified to sing but always wanted to try? &nbsp\;We have plenty of folks who will entertain you!<br />\n<br />\nCome experience the fun\, fellowship and networking of <strong>Kerryoke Night at the #FunChamber</strong>! &nbsp\;Special thanks to <strong>Cut Throat Marketing</strong> for presenting this event. &nbsp\;Appetizers provided by Chef Tom and Jen at <strong>Lil&#39\; House of Pizza</strong>!</span></span>
LOCATION:Irmo Chamber House 1235 Columbia Ave. Irmo\, SC 29063
UID:e.1333.6490
SEQUENCE:3
DTSTAMP:20260423T234857Z
URL:https://business.greaterirmochamber.com/events/details/kerryoke-night-at-the-funchamber-6490
END:VEVENT

END:VCALENDAR
