BEGIN:VCALENDAR
VERSION:2.0
PRODID:-//ChamberMaster//Event Calendar 2.0//EN
METHOD:PUBLISH
X-PUBLISHED-TTL:P3D
REFRESH-INTERVAL:P3D
CALSCALE:GREGORIAN
BEGIN:VEVENT
DTSTART:20250714T130000Z
DTEND:20250714T160000Z
X-MICROSOFT-CDO-ALLDAYEVENT:FALSE
SUMMARY:Kids Clay Experience Camp (Fantasy Theme)
DESCRIPTION:Kids will learn the basics of clay\, as well as different hand building and glazing techniques. Snack included. Registration will close 48 hours before camp start. Ages 6-12 $175
X-ALT-DESC;FMTTYPE=text/html:<span style="font-size:14px\;"><span style="font-family:verdana\;">Kids will learn the basics of clay\, as well as different hand building and glazing techniques. Snack included. Registration will close 48 hours before camp start. Ages 6-12 $175</span></span>
LOCATION:Seven Oaks Park 200 Leisure Lane\, Columbia\, SC 29210
UID:e.1333.6133
SEQUENCE:3
DTSTAMP:20260421T101019Z
URL:https://business.greaterirmochamber.com/events/details/kids-clay-experience-camp-fantasy-theme-6133
END:VEVENT

END:VCALENDAR
