BEGIN:VCALENDAR
VERSION:2.0
PRODID:-//ChamberMaster//Event Calendar 2.0//EN
METHOD:PUBLISH
X-PUBLISHED-TTL:P3D
REFRESH-INTERVAL:P3D
CALSCALE:GREGORIAN
BEGIN:VEVENT
DTSTART:20170227T003000Z
DTEND:20170227T030000Z
X-MICROSOFT-CDO-ALLDAYEVENT:FALSE
SUMMARY:Ladysmith Black Mambazo
DESCRIPTION:Theirs is the musical voice of a nation. For 50 years\, Ladysmith Black Mambazo has upheld and shared the musical traditions of South Africa. Their rich sonic balance set the landscape for Paul Simon's "Graceland\," Clint Eastwood's Invictus\, and Darrell Roodt's Cry\, the Beloved Country featuring James Earl Jones. Their live performances infuse movement\, song\, reverence\, and celebration to honor the struggle for equality and their hope for a peaceful world.
X-ALT-DESC;FMTTYPE=text/html:Theirs is the musical voice of a nation. For 50 years\, Ladysmith Black Mambazo has upheld and shared the musical traditions of South Africa. Their rich sonic balance set the landscape for Paul Simon&rsquo\;s &ldquo\;Graceland\,&rdquo\; Clint Eastwood&rsquo\;s&nbsp\;Invictus\, and Darrell Roodt&rsquo\;s&nbsp\;Cry\, the Beloved Country&nbsp\;featuring James Earl Jones. Their live performances infuse movement\, song\, reverence\, and celebration to honor the struggle for equality and their hope for a peaceful world.&nbsp\;
LOCATION:Harbison Theatre at Midlands Technical College 7300 College Street Irmo\, SC 29063 803-407-5011
UID:e.1333.2454
SEQUENCE:3
DTSTAMP:20260424T185029Z
URL:https://business.greaterirmochamber.com/events/details/ladysmith-black-mambazo-02-26-2017-2454
END:VEVENT

END:VCALENDAR
