BEGIN:VCALENDAR
VERSION:2.0
PRODID:-//ChamberMaster//Event Calendar 2.0//EN
METHOD:PUBLISH
X-PUBLISHED-TTL:P3D
REFRESH-INTERVAL:P3D
CALSCALE:GREGORIAN
BEGIN:VEVENT
DTSTART:20260623T160000Z
DTEND:20260623T170000Z
X-MICROSOFT-CDO-ALLDAYEVENT:FALSE
SUMMARY:LAWYERLISA Legacy Lunch and Learn: Prevention Planning
DESCRIPTION:Prevention Planning helps you stay ahead of life's curveballs. It combines legal\, financial\, and care strategies to avoid costly mistakes and crises. Discover how proactive planning can protect your assets\, support aging on your terms\, and give peace of mind to loved ones. Join us via ZOOM! Register to attend and get the link: https://lawyerlisa.com/events
X-ALT-DESC;FMTTYPE=text/html:<span style="font-size:16px\;"><span style="font-family:verdana\;">Prevention Planning helps you stay ahead of life&rsquo\;s curveballs. It combines legal\, financial\, and care strategies to avoid costly mistakes and crises. Discover how proactive planning can protect your assets\, support aging on your terms\, and give peace of mind to loved ones. Join us via ZOOM! Register to attend and get the link: https://lawyerlisa.com/events</span></span>
LOCATION:via ZOOM
UID:e.1333.6270
SEQUENCE:3
DTSTAMP:20260424T073404Z
URL:https://business.greaterirmochamber.com/events/details/lawyerlisa-legacy-lunch-and-learn-prevention-planning-6270
END:VEVENT

END:VCALENDAR
