BEGIN:VCALENDAR
VERSION:2.0
PRODID:-//ChamberMaster//Event Calendar 2.0//EN
METHOD:PUBLISH
X-PUBLISHED-TTL:P3D
REFRESH-INTERVAL:P3D
CALSCALE:GREGORIAN
BEGIN:VEVENT
DTSTART:20260519T160000Z
DTEND:20260519T170000Z
X-MICROSOFT-CDO-ALLDAYEVENT:FALSE
SUMMARY:LAWYERLISA: Legacy Lunch and Learn: Probate
DESCRIPTION:Probate can feel overwhelming but it doesn't have to be. This session explains the probate process\, common pitfalls\, and strategies to make settling an estate easier for your loved ones. Join us via ZOOM! Register to receive the link: https://lawyerlisa.com/events
X-ALT-DESC;FMTTYPE=text/html:<span style="font-size:16px\;"><span style="font-family:verdana\;">Probate can feel overwhelming&mdash\;but it doesn&rsquo\;t have to be. This session explains the probate process\, common pitfalls\, and strategies to make settling an estate easier for your loved ones. Join us via ZOOM! Register to receive the link: https://lawyerlisa.com/events</span></span>
LOCATION:via ZOOM
UID:e.1333.6269
SEQUENCE:3
DTSTAMP:20260424T042650Z
URL:https://business.greaterirmochamber.com/events/details/lawyerlisa-legacy-lunch-and-learn-probate-6269
END:VEVENT

END:VCALENDAR
