BEGIN:VCALENDAR
VERSION:2.0
PRODID:-//ChamberMaster//Event Calendar 2.0//EN
METHOD:PUBLISH
X-PUBLISHED-TTL:P3D
REFRESH-INTERVAL:P3D
CALSCALE:GREGORIAN
BEGIN:VEVENT
DTSTART:20190912T123000Z
DTEND:20190912T193000Z
X-MICROSOFT-CDO-ALLDAYEVENT:FALSE
SUMMARY:Leadercast 2019: Leading Healthy Teams
DESCRIPTION:Click here for sponsorship opportunities!\n\n\n\nLeadercast is the largest one-day leadership event in the world. Broadcast live each year from Atlanta to hundreds of Host Sites around the world\, Leadercast assembles globally respected leadership experts on one stage to share knowledge and insights from their leadership journeys.\n\nLeadercast dives into leadership issues relevant to today's leaders to provide solutions and inspiration to help attendees around the globe be better leaders. By bringing together top leadership experts with worldly perspectives\, Leadercast provides leaders everywhere with the knowledge and tools to be leaders worth following.\n\n\n\n\nWhat defines a team's success? Is it based solely on achievement\, or is there more to the story? The best leaders know a successful team is made when focus\, care\, attention and development is directed to its members. Healthy teams yield fulfilled employees\, effective collaboration\, high organizational engagement and greater long-term success. In 2019\, Leadercast will bring experts in organizational health to help attendees master the art and science of developing and leading healthy teams.
X-ALT-DESC;FMTTYPE=text/html:<div class="page" style="caret-color: rgb(0\, 0\, 0)\; color: rgb(0\, 0\, 0)\; font-family: -webkit-standard\;" title="Page 1">\n<div class="layoutArea">\n<div class="column">\n<p><span style="font-size:18px\;"><span style="font-family:arial\;"><a href="https://chambermaster.blob.core.windows.net/userfiles/UserFiles/chambers/1333/File/Leadercast_2019/Leadercast2019SponsorshipProspectus.pdf">Click here for sponsorship opportunities!</a><br />\n<br />\nLeadercast is the largest one-day leadership event in the world. Broadcast live each year from Atlanta to hundreds of Host Sites around the world\, Leadercast assembles globally respected leadership experts on one stage to share knowledge and insights from their leadership journeys.</span></span></p>\n\n<p><span style="font-size:18px\;"><span style="font-family:arial\;">Leadercast dives into leadership issues relevant to today&rsquo\;s leaders to provide solutions and inspiration to help attendees around the globe be better leaders. By bringing together top leadership experts with worldly perspectives\, Leadercast provides leaders everywhere with the knowledge and tools to be leaders worth following.</span></span></p>\n\n<div class="page" style="caret-color: rgb(0\, 0\, 0)\; color: rgb(0\, 0\, 0)\; font-family: -webkit-standard\;" title="Page 1">\n<div class="layoutArea">\n<div class="column">\n<p><span style="font-size:18px\;"><span style="font-family:arial\;">What defines a team&rsquo\;s success? Is it based solely on achievement\, or is there more to the story? The best leaders know a successful team is made when focus\, care\, attention and development is directed to its members. Healthy teams yield fulfilled employees\, effective collaboration\, high organizational engagement and greater long-term success. In 2019\, Leadercast&nbsp\;will bring experts in organizational health to help attendees master the art and science of developing and leading healthy teams.</span></span><br />\n<br />\n<br />\n<br />\n&nbsp\;</p>\n</div>\n</div>\n</div>\n</div>\n</div>\n</div>\n
LOCATION:Harbison Theatre at Midlands Technical College 7300 College Street Irmo\, SC 29063
UID:e.1333.3310
SEQUENCE:3
DTSTAMP:20260422T190727Z
URL:https://business.greaterirmochamber.com/events/details/leadercast-2019-leading-healthy-teams-3310
END:VEVENT

END:VCALENDAR
