BEGIN:VCALENDAR
VERSION:2.0
PRODID:-//ChamberMaster//Event Calendar 2.0//EN
METHOD:PUBLISH
X-PUBLISHED-TTL:P3D
REFRESH-INTERVAL:P3D
CALSCALE:GREGORIAN
BEGIN:VEVENT
DTSTART:20170125T000000Z
DTEND:20170125T020000Z
X-MICROSOFT-CDO-ALLDAYEVENT:FALSE
SUMMARY:Les Liaisons Dangereuses (Dangerous Liaisons)
DESCRIPTION:Former lovers\, the Marquise de Merteuil and Vicomte de Valmont now compete in games of seduction and revenge. Merteuil incites Valmont to corrupt the innocent Cécile de Volanges before her wedding night\, but Valmont has targeted the peerlessly virtuous and beautiful Madame de Tourvel. While these merciless aristocrats toy with others’ hearts and reputations\, their own may prove more fragile than they supposed.
X-ALT-DESC;FMTTYPE=text/html:Former lovers\, the Marquise de Merteuil and Vicomte de Valmont now compete in games of seduction and revenge. Merteuil incites Valmont to corrupt the innocent Cécile de Volanges before her wedding night\, but Valmont has targeted the peerlessly virtuous and beautiful Madame de Tourvel. While these merciless aristocrats toy with others’ hearts and reputations\, their own may prove more fragile than they supposed.\n
LOCATION:Harbison Theatre at Midlands Technical College 7300 College Street Irmo\, SC 29063 803-407-5011
UID:e.1333.2450
SEQUENCE:3
DTSTAMP:20260424T200335Z
URL:https://business.greaterirmochamber.com/events/details/les-liaisons-dangereuses-dangerous-liaisons-01-24-2017-2450
END:VEVENT

END:VCALENDAR
