BEGIN:VCALENDAR
VERSION:2.0
PRODID:-//ChamberMaster//Event Calendar 2.0//EN
METHOD:PUBLISH
X-PUBLISHED-TTL:P3D
REFRESH-INTERVAL:P3D
CALSCALE:GREGORIAN
BEGIN:VEVENT
DTSTART:20180626T153000Z
DTEND:20180626T163000Z
X-MICROSOFT-CDO-ALLDAYEVENT:FALSE
SUMMARY:Level Elite LLC Ribbon Cutting
DESCRIPTION:Please join us here at the Chamber when we welcome Nedra Brown with Level Elite\, LLC to the Irmo Chamber.  A light lunch will be served and we'll cut the ribbon around 11:45!
X-ALT-DESC;FMTTYPE=text/html:Please join us here at the Chamber when we welcome Nedra Brown with <strong>Level Elite\, LLC</strong> to the Irmo Chamber. &nbsp\;A light lunch will be served and we&#39\;ll cut the ribbon around 11:45!
LOCATION:Greater Irmo Chamber of Commerce 1235 Columbia Ave. Irmo\, SC 29063
UID:e.1333.3213
SEQUENCE:3
DTSTAMP:20260423T180324Z
URL:https://business.greaterirmochamber.com/events/details/level-elite-llc-ribbon-cutting-3213
END:VEVENT

END:VCALENDAR
