BEGIN:VCALENDAR
VERSION:2.0
PRODID:-//ChamberMaster//Event Calendar 2.0//EN
METHOD:PUBLISH
X-PUBLISHED-TTL:P3D
REFRESH-INTERVAL:P3D
CALSCALE:GREGORIAN
BEGIN:VEVENT
DTSTART:20170920T160000Z
DTEND:20170920T170000Z
X-MICROSOFT-CDO-ALLDAYEVENT:FALSE
SUMMARY:Leverage the Power and Reach of Facebook Advertising to Grow Revenue
DESCRIPTION:Chris Kirkpatrick of Market Solve Media\, LLC is a digital marketing consultant who helps local professionals grow their businesses. Chris will present on the topic "How Small to Medium-Sized Businesses can Leverage the Power and Reach of Facebook Advertising to Grow Revenue."\n\n\n\nA box lunch is available for $10 but you must register in advance.  Limited seating.
X-ALT-DESC;FMTTYPE=text/html:Chris Kirkpatrick of Market Solve Media\, LLC is a digital marketing consultant who helps local professionals grow their businesses. Chris will present on the topic &ldquo\;How Small to Medium-Sized Businesses can Leverage the Power and Reach of Facebook Advertising to Grow Revenue.&rdquo\;<br />\n<br />\nA box lunch is available for $10 but you must register in advance. &nbsp\;Limited seating.
LOCATION:Greater Irmo Chamber of Commerce 1235 Columbia Avenue Irmo\, SC 29063
UID:e.1333.2902
SEQUENCE:3
DTSTAMP:20260424T095629Z
URL:https://business.greaterirmochamber.com/events/details/leverage-the-power-and-reach-of-facebook-advertising-to-grow-revenue-2902
END:VEVENT

END:VCALENDAR
