BEGIN:VCALENDAR
VERSION:2.0
PRODID:-//ChamberMaster//Event Calendar 2.0//EN
METHOD:PUBLISH
X-PUBLISHED-TTL:P3D
REFRESH-INTERVAL:P3D
CALSCALE:GREGORIAN
BEGIN:VEVENT
DTSTART:20190920T120000Z
DTEND:20190922T200000Z
X-MICROSOFT-CDO-ALLDAYEVENT:FALSE
SUMMARY:Lexington County Master Gardener Volunteers Annual Plant Sale
DESCRIPTION:Lexington County Master Garden Volunteers Annual Plant Sale at Midlands Fall Plant and Flower Festival. September 20-22\, at SC Farmers Market. Hundreds of plants grown by master gardeners- house plants\, succulents\, perennials\, shrub & trees. Shop the "General Store" for gently used garden tools and supplies\, gardening books and magazines\, gifts and more. Come early for best selections. Proceeds help fund the Sam Cheatham Scholarships for students studying agricultural/horticulture.
X-ALT-DESC;FMTTYPE=text/html:Lexington County Master Garden Volunteers Annual Plant Sale at Midlands Fall Plant and Flower Festival. September 20-22\, at SC Farmers Market. Hundreds of plants grown by master gardeners- house plants\, succulents\, perennials\, shrub &amp\; trees. Shop the &quot\;General Store&quot\; for gently used garden tools and supplies\, gardening books and magazines\, gifts and more. Come early for best selections. Proceeds help fund the Sam Cheatham Scholarships for students studying agricultural/horticulture.
LOCATION:SC Farmers Market 3483 Charleston Hwy. West Columbia\, SC
UID:e.1333.3367
SEQUENCE:3
DTSTAMP:20260422T203840Z
URL:https://business.greaterirmochamber.com/events/details/lexington-county-master-gardener-volunteers-annual-plant-sale-09-20-2019-3367
END:VEVENT

END:VCALENDAR
