BEGIN:VCALENDAR
VERSION:2.0
PRODID:-//ChamberMaster//Event Calendar 2.0//EN
METHOD:PUBLISH
X-PUBLISHED-TTL:P3D
REFRESH-INTERVAL:P3D
CALSCALE:GREGORIAN
BEGIN:VEVENT
DTSTART:20180921T120000Z
DTEND:20180923T220000Z
X-MICROSOFT-CDO-ALLDAYEVENT:FALSE
SUMMARY:Lexington County Master Gardener Volunteers Annual Plant Sale
DESCRIPTION:Lexington County Master Garden Volunteers sponsoring Annual Plant Sale at 2018 Fall Midlands Plant and Flower Festival. Our "General Store" has assortment of gently used garden supplies\, tools\, pots and much more. Come early for best selections.
X-ALT-DESC;FMTTYPE=text/html:Lexington County Master Garden Volunteers sponsoring Annual Plant Sale at 2018 Fall Midlands Plant and Flower Festival. Our &quot\;General Store&quot\; has assortment of gently used garden supplies\, tools\, pots and much more. Come early for best selections.
LOCATION:S.C.State Farmers Market\, 3483 Charleston Highway\, West Columbia
UID:e.1333.3263
SEQUENCE:3
DTSTAMP:20260423T133611Z
URL:https://business.greaterirmochamber.com/events/details/lexington-county-master-gardener-volunteers-annual-plant-sale-3263
END:VEVENT

END:VCALENDAR
