BEGIN:VCALENDAR
VERSION:2.0
PRODID:-//ChamberMaster//Event Calendar 2.0//EN
METHOD:PUBLISH
X-PUBLISHED-TTL:P3D
REFRESH-INTERVAL:P3D
CALSCALE:GREGORIAN
BEGIN:VEVENT
DTSTART;VALUE=DATE:20191107
DTEND;VALUE=DATE:20191111
TRANSP:TRANSPARENT
X-MICROSOFT-CDO-ALLDAYEVENT:TRUE
SUMMARY:Lexington Holiday Open House
DESCRIPTION:It's the 6th Annual Lexington Holiday Open House! Gather your friends & family together to shop locally on this weekend by visiting participating Lexington merchants! Holiday decor\, refreshments\, door prizes and unique treasures await - it's a weekend filled with sales and specials bound to get you into the Holiday spirit!
X-ALT-DESC;FMTTYPE=text/html:It's the 6th Annual Lexington Holiday Open House! Gather your friends &amp\; family together to shop locally on this weekend by visiting participating Lexington merchants! Holiday decor\, refreshments\, door prizes and unique treasures await - it's a weekend filled with sales and specials bound to get you into the Holiday spirit! 
LOCATION:Numerous locations\, see website or Facebook page for details!
UID:e.1333.3383
SEQUENCE:3
DTSTAMP:20260422T161007Z
URL:https://business.greaterirmochamber.com/events/details/lexington-holiday-open-house-3383
END:VEVENT

END:VCALENDAR
