BEGIN:VCALENDAR
VERSION:2.0
PRODID:-//ChamberMaster//Event Calendar 2.0//EN
METHOD:PUBLISH
X-PUBLISHED-TTL:P3D
REFRESH-INTERVAL:P3D
CALSCALE:GREGORIAN
BEGIN:VEVENT
DTSTART:20160811T113000Z
DTEND:20160811T133000Z
X-MICROSOFT-CDO-ALLDAYEVENT:FALSE
SUMMARY:Lexington Medical Health Screening
DESCRIPTION:Lexington Medical Health Screening: Call to schedule! 749-9355\n\nFree Screening:  Blood Pressure\, Glucose\, Lipid Profile\n\nAdditional Screenings:  Thyroid Profile ($32)\n\nVitamin D: ($40)
X-ALT-DESC;FMTTYPE=text/html:Lexington Medical Health Screening: Call to schedule! 749-9355<br />\nFree Screening: &nbsp\;Blood Pressure\, Glucose\, Lipid Profile<br />\nAdditional Screenings: &nbsp\;Thyroid Profile ($32)<br />\nVitamin D: ($40)
LOCATION:Greater Irmo Chamber of Commerce 1235 Columbia Avenue Irmo\, SC 29063
UID:e.1333.2427
SEQUENCE:3
DTSTAMP:20260425T034237Z
URL:https://business.greaterirmochamber.com/events/details/lexington-medical-health-screening-08-11-2016-2427
END:VEVENT

END:VCALENDAR
