BEGIN:VCALENDAR
VERSION:2.0
PRODID:-//ChamberMaster//Event Calendar 2.0//EN
METHOD:PUBLISH
X-PUBLISHED-TTL:P3D
REFRESH-INTERVAL:P3D
CALSCALE:GREGORIAN
BEGIN:VEVENT
DTSTART:20190826T113000Z
DTEND:20190826T123000Z
X-MICROSOFT-CDO-ALLDAYEVENT:FALSE
SUMMARY:Lexington Medical Health Screening - 2019
DESCRIPTION:Heart Health Screening: (FASTING IS REQUIRED FOR 12 HOURS PRIOR)\n\nBlood Pressure Assessment\n\nGlucose (Blood Sugar) screening test for risk of developing diabetes\n\nLipid Profile (Total Cholesterol\, HDL\, LDL and Triglycerides) screening test for coronary heart and vascular disease\n\nCall to schedule an appointment @ 749-9355
X-ALT-DESC;FMTTYPE=text/html:Heart Health Screening: (FASTING IS REQUIRED FOR 12 HOURS PRIOR)<br />\nBlood Pressure Assessment<br />\nGlucose (Blood Sugar) screening test for risk of developing diabetes<br />\nLipid Profile (Total Cholesterol\, HDL\, LDL and Triglycerides) screening test for coronary heart and vascular disease<br />\nCall to schedule an appointment @ 749-9355
LOCATION:Irmo Chamber 1235 Columbia Avenue Irmo\, SC 29063
UID:e.1333.3338
SEQUENCE:3
DTSTAMP:20260422T201709Z
URL:https://business.greaterirmochamber.com/events/details/lexington-medical-health-screening-2019-3338
END:VEVENT

END:VCALENDAR
