BEGIN:VCALENDAR
VERSION:2.0
PRODID:-//ChamberMaster//Event Calendar 2.0//EN
METHOD:PUBLISH
X-PUBLISHED-TTL:P3D
REFRESH-INTERVAL:P3D
CALSCALE:GREGORIAN
BEGIN:VEVENT
DTSTART;VALUE=DATE:20171102
DTEND;VALUE=DATE:20171106
TRANSP:TRANSPARENT
X-MICROSOFT-CDO-ALLDAYEVENT:TRUE
SUMMARY:Lexington's Holiday Open House
DESCRIPTION:Tis' the Season to Shop LOCAL   Gather your friends & family together to shop locally on this weekend by visiting participating Lexington merchants. Refreshments\, door prizes and unique treasures await you for a weekend filled with sales and specials bound to get you into the Holiday spirit. Get your shopping done early  or just browse around for ideas! Visit these participating merchants and check their Facebook Page for Open House Specials. Special hours vary by business. Blush Boutique and Home 5175 Sunset Blvd\, Suite 7 fab'rik 5135 Sunset Blvd\, Suite F Gifts Galore & So Much More 170 Corley Mill Rd. James and Eloise Fine Children's Boutique 5175 Sunset Blvd\, Suite 8 Rustic Chic Interiors 207 West Main Street Rustic Restorations of SC 808 South Lake Dr. Southern Blu Boutique 108 Jamestowne Ct.\, Suite A Tera's Merle Norman and Boutique 429 Columbia Ave. The Classy Cruet Olive Oils & Vinegars 5175 Sunset Blvd\, Suite 10 The Nifty Gifty 104 Andrew Corley Rd. Tim's Touch Flowers & Gifts 5175-A Sunset Blvd\, Hope Ferry Center Lower Level Wild Birds Unlimited 435 Columbia Ave.   (803) 951-2070 Wingard's Market 1403 North Lake Dr.   (803) 359-9091 Wood and Fabric Furniture 819 E Main Street   (803) 490-2097
X-ALT-DESC;FMTTYPE=text/html:Tis&rsquo\; the Season to Shop LOCAL &hellip\; Gather your friends &amp\; family together to shop locally on this weekend by visiting participating Lexington merchants. Refreshments\, door prizes and unique treasures await you for a weekend filled with sales and specials bound to get you into the Holiday spirit. Get your shopping done early &hellip\;or just browse around for ideas! Visit these participating merchants and check their Facebook Page for Open House Specials. Special hours vary by business. Blush Boutique and Home 5175 Sunset Blvd\, Suite 7 fab&rsquo\;rik 5135 Sunset Blvd\, Suite F Gifts Galore &amp\; So Much More 170 Corley Mill Rd. James and Eloise Fine Children&rsquo\;s Boutique 5175 Sunset Blvd\, Suite 8 Rustic Chic Interiors 207 West Main Street Rustic Restorations of SC 808 South Lake Dr. Southern Blu Boutique 108 Jamestowne Ct.\, Suite A Tera&rsquo\;s Merle Norman and Boutique 429 Columbia Ave. The Classy Cruet Olive Oils &amp\; Vinegars 5175 Sunset Blvd\, Suite 10 The Nifty Gifty 104 Andrew Corley Rd. Tim&rsquo\;s Touch Flowers &amp\; Gifts 5175-A Sunset Blvd\, Hope Ferry Center Lower Level Wild Birds Unlimited 435 Columbia Ave. &ndash\; (803) 951-2070 Wingard&rsquo\;s Market 1403 North Lake Dr. &ndash\; (803) 359-9091 Wood and Fabric Furniture 819 E Main Street &ndash\; (803) 490-2097
LOCATION:Merchants in Lexington\, SC
UID:e.1333.2895
SEQUENCE:3
DTSTAMP:20260424T065136Z
URL:https://business.greaterirmochamber.com/events/details/lexington-s-holiday-open-house-2895
END:VEVENT

END:VCALENDAR
