BEGIN:VCALENDAR
VERSION:2.0
PRODID:-//ChamberMaster//Event Calendar 2.0//EN
METHOD:PUBLISH
X-PUBLISHED-TTL:P3D
REFRESH-INTERVAL:P3D
CALSCALE:GREGORIAN
BEGIN:VEVENT
DTSTART:20170725T140000Z
DTEND:20170725T190000Z
X-MICROSOFT-CDO-ALLDAYEVENT:FALSE
SUMMARY:Lexpo Summer Business Expo
DESCRIPTION:The Greater Irmo Chamber is partnering with our friends across the Dam for the Lexpo Summer Business Expo at River Bluff High School!\n\n\n\nTHIS EVENT IS FULL\; NO TABLES AVAILABLE
X-ALT-DESC;FMTTYPE=text/html:The Greater Irmo Chamber is partnering with our friends across the Dam for the Lexpo Summer Business Expo at River Bluff High School!<br />\n<br />\nTHIS EVENT IS FULL\; NO TABLES AVAILABLE
LOCATION:River Bluff High School 320 Corley Mill Rd. Lexington\, SC 29072
UID:e.1333.2562
SEQUENCE:3
DTSTAMP:20260424T113530Z
URL:https://business.greaterirmochamber.com/events/details/lexpo-summer-business-expo-2562
END:VEVENT

END:VCALENDAR
