BEGIN:VCALENDAR
VERSION:2.0
PRODID:-//ChamberMaster//Event Calendar 2.0//EN
METHOD:PUBLISH
X-PUBLISHED-TTL:P3D
REFRESH-INTERVAL:P3D
CALSCALE:GREGORIAN
BEGIN:VEVENT
DTSTART:20180711T140000Z
DTEND:20180711T190000Z
X-MICROSOFT-CDO-ALLDAYEVENT:FALSE
SUMMARY:Lexpo Summer Business Expo
DESCRIPTION:The Greater Irmo Chamber is partnering with our friends across the Dam for the Lexpo Summer Business Expo at River Bluff High School!\n\n\n\nFREE TO THE PUBLIC!  OVER 100 VENDORS!
X-ALT-DESC;FMTTYPE=text/html:The Greater Irmo Chamber is partnering with our friends across the Dam for the Lexpo Summer Business Expo at River Bluff High School!<br />\n<br />\n<strong>FREE TO THE PUBLIC! &nbsp\;OVER 100 VENDORS!</strong><br />\n<br />\n&nbsp\;
LOCATION:River Bluff High School 320 Corley Mill Rd. Lexington\, SC 29072
UID:e.1333.3215
SEQUENCE:3
DTSTAMP:20260423T164221Z
URL:https://business.greaterirmochamber.com/events/details/lexpo-summer-business-expo-3215
END:VEVENT

END:VCALENDAR
