BEGIN:VCALENDAR
VERSION:2.0
PRODID:-//ChamberMaster//Event Calendar 2.0//EN
METHOD:PUBLISH
X-PUBLISHED-TTL:P3D
REFRESH-INTERVAL:P3D
CALSCALE:GREGORIAN
BEGIN:VEVENT
DTSTART:20190619T213000Z
DTEND:20190619T233000Z
X-MICROSOFT-CDO-ALLDAYEVENT:FALSE
SUMMARY:Live at Aloft Harbison
DESCRIPTION:Don't forget to swing by Wednesday night and see DJ Bull and grab a drink at our WXYZ Bar! DJ Bull will be here from 5:30pm to 7:30pm. See you there! #AloftLive #AloftColumbiaHarbison #DJBull
X-ALT-DESC;FMTTYPE=text/html:Don&rsquo\;t forget to swing by Wednesday night and see DJ Bull and grab a drink at our WXYZ Bar! DJ Bull will be here from 5:30pm to 7:30pm. See you there! #AloftLive #AloftColumbiaHarbison #DJBull
LOCATION:Aloft Columbia Harbison
UID:e.1333.3340
SEQUENCE:3
DTSTAMP:20260422T231210Z
URL:https://business.greaterirmochamber.com/events/details/live-at-aloft-harbison-3340
END:VEVENT

END:VCALENDAR
