BEGIN:VCALENDAR
VERSION:2.0
PRODID:-//ChamberMaster//Event Calendar 2.0//EN
METHOD:PUBLISH
X-PUBLISHED-TTL:P3D
REFRESH-INTERVAL:P3D
CALSCALE:GREGORIAN
BEGIN:VEVENT
DTSTART:20180827T113000Z
DTEND:20180827T123000Z
X-MICROSOFT-CDO-ALLDAYEVENT:FALSE
SUMMARY:LMC Heart Health Screening
DESCRIPTION:LMC: Heart Health Screening\n\n-Blood Pressure Assessment\n\n-Glucose (Blood Sugar) screening test for risk of developing diabetes\n\n-Lipid Profile (Total Cholesterol\, HDL\, LDL and Triglycerides)\n\nFASTING IS REQUIRED FOR 12 HOURS PRIOR TO SCREENING!!!!
X-ALT-DESC;FMTTYPE=text/html:LMC: Heart Health Screening<br />\n-Blood Pressure Assessment<br />\n-Glucose (Blood Sugar) screening test for risk of developing diabetes<br />\n-Lipid Profile (Total Cholesterol\, HDL\, LDL and Triglycerides)<br />\nFASTING IS REQUIRED FOR 12 HOURS PRIOR TO SCREENING!!!!
LOCATION:Greater Irmo Chamber Office 1235 Columbia Avenue Irmo\, SC 29063
UID:e.1333.3221
SEQUENCE:3
DTSTAMP:20260423T150412Z
URL:https://business.greaterirmochamber.com/events/details/lmc-heart-health-screening-3221
END:VEVENT

END:VCALENDAR
