BEGIN:VCALENDAR
VERSION:2.0
PRODID:-//ChamberMaster//Event Calendar 2.0//EN
METHOD:PUBLISH
X-PUBLISHED-TTL:P3D
REFRESH-INTERVAL:P3D
CALSCALE:GREGORIAN
BEGIN:VEVENT
DTSTART:20180215T003000Z
DTEND:20180218T003000Z
X-MICROSOFT-CDO-ALLDAYEVENT:FALSE
SUMMARY:Love Laughter and Lyrics: Valentine's Dinner Improv Theatre
DESCRIPTION:What are your plans for Valentines Day? How about a short play\, improv comedy show\, a guest artist AND a 3 course dinner! WOW's Valentine's Day Dinner Theatre always delivers! Tickets are on sale now!
X-ALT-DESC;FMTTYPE=text/html:What are your plans for Valentines Day? How about a short play\, improv comedy show\, a guest artist AND a 3 course dinner! WOW&#39\;s Valentine&#39\;s Day Dinner Theatre always delivers! Tickets are on sale now!
LOCATION:WOW Performing Arts Center 5816 Shakspeare Road\, Ste A Columbia\, SC 29223
UID:e.1333.2952
SEQUENCE:3
DTSTAMP:20260424T020718Z
URL:https://business.greaterirmochamber.com/events/details/love-laughter-and-lyrics-valentine-s-dinner-improv-theatre-2952
END:VEVENT

END:VCALENDAR
