BEGIN:VCALENDAR
VERSION:2.0
PRODID:-//ChamberMaster//Event Calendar 2.0//EN
METHOD:PUBLISH
X-PUBLISHED-TTL:P3D
REFRESH-INTERVAL:P3D
CALSCALE:GREGORIAN
BEGIN:VEVENT
DTSTART:20160928T233000Z
DTEND:20160929T020000Z
X-MICROSOFT-CDO-ALLDAYEVENT:FALSE
SUMMARY:Lucky Chops
DESCRIPTION:All brass. All the time. From the New York City subway platform to television screens and international stages\, Lucky Chops are finally spreading their infectious music and positive energy to South Carolina for the very first time. Join us for a party where anything is possible as these talented and riotous friends cover pop favorites and originals\, using instruments usually reserved for the high school marching band.
X-ALT-DESC;FMTTYPE=text/html:All brass. All the time. From the New York City subway platform to television screens and international stages\, Lucky Chops are finally spreading their infectious music and positive energy to South Carolina for the very first time. Join us for a party where anything is possible as these talented and riotous friends cover pop favorites and originals\, using instruments usually reserved for the high school marching band. \n
LOCATION:Harbison Theatre at Midlands Technical College 7300 College Street Irmo\, SC 29063 803-407-5011
UID:e.1333.2440
SEQUENCE:3
DTSTAMP:20260425T020240Z
URL:https://business.greaterirmochamber.com/events/details/lucky-chops-09-28-2016-2440
END:VEVENT

END:VCALENDAR
