BEGIN:VCALENDAR
VERSION:2.0
PRODID:-//ChamberMaster//Event Calendar 2.0//EN
METHOD:PUBLISH
X-PUBLISHED-TTL:P3D
REFRESH-INTERVAL:P3D
CALSCALE:GREGORIAN
BEGIN:VEVENT
DTSTART:20160920T153000Z
DTEND:20160920T170000Z
X-MICROSOFT-CDO-ALLDAYEVENT:FALSE
SUMMARY:Lunch & Learn: A Health Insurance Workshop
DESCRIPTION:Join us for an informative session presented by Joe Schaub\, authorized agent of our Health Insurance Partner\, Blue Cross Blue Shield of South Carolina.  The presentation will focus on the following:\n\n \n\n	Important things you need to know about your health insurance renewal.\n	How to manage the impact ACA has on your employee benefit plans this year.\n	Trends and best practices in employer-sponsored health insurance.\n	3 things you need to know to keep the IRS from visiting your business.\n	A review of the upcoming Healthcare Law changes for 2016 and beyond.\n\n \n\nAs a small business owner\, you need health insurance that your employees can count on.  BlueCross has been a trusted name in the health insurance industry for more than 65 years.
X-ALT-DESC;FMTTYPE=text/html:<span style="font-size:14.0pt\;">Join us for an informative session presented by Joe Schaub\, authorized agent of our Health Insurance Partner\, Blue Cross Blue Shield of South Carolina.&nbsp\; The presentation will focus on the following:</span><br />\n&nbsp\;\n<ul>\n	<li>Important things you need to know about your health insurance renewal.</li>\n	<li>How to manage the impact ACA has on your employee benefit plans this year.</li>\n	<li>Trends and best practices in employer-sponsored health insurance.</li>\n	<li>3 things you need to know to keep the IRS from visiting your business.</li>\n	<li>A review of the upcoming Healthcare Law changes for 2016 and beyond.</li>\n</ul>\n&nbsp\;<br />\n<span style="font-size:14.0pt\;">As a small business owner\, you need health insurance that your employees can count on.&nbsp\; BlueCross has been a trusted name in the health insurance industry for more than 65 years.</span>
LOCATION:Greater Irmo Chamber of Commerce 1235 Columbia Ave. Irmo\, SC 29063
UID:e.1333.2469
SEQUENCE:3
DTSTAMP:20260425T020342Z
URL:https://business.greaterirmochamber.com/events/details/lunch-learn-a-health-insurance-workshop-2469
END:VEVENT

END:VCALENDAR
