BEGIN:VCALENDAR
VERSION:2.0
PRODID:-//ChamberMaster//Event Calendar 2.0//EN
METHOD:PUBLISH
X-PUBLISHED-TTL:P3D
REFRESH-INTERVAL:P3D
CALSCALE:GREGORIAN
BEGIN:VEVENT
DTSTART:20191008T153000Z
DTEND:20191008T170000Z
X-MICROSOFT-CDO-ALLDAYEVENT:FALSE
SUMMARY:Lunch & Learn: Calm\, Cool & Invested
DESCRIPTION:Come to the #FunChamber and learn a little something while you lunch!!\n\n\n\nBob Bouyea with Edwards Jones Investments will be here to discuss financial strategies to help you stay on track and achieve your goals.
X-ALT-DESC;FMTTYPE=text/html:Come to the #FunChamber and learn a little something while you lunch!!<br />\n<br />\nBob Bouyea with Edwards Jones Investments will be here to discuss financial strategies to help you stay on track and achieve your goals.
LOCATION:Greater Irmo Chamber 1235 Columbia Ave. Irmo\, SC 29063
UID:e.1333.3369
SEQUENCE:3
DTSTAMP:20260422T173649Z
URL:https://business.greaterirmochamber.com/events/details/lunch-learn-calm-cool-invested-3369
END:VEVENT

END:VCALENDAR
