BEGIN:VCALENDAR
VERSION:2.0
PRODID:-//ChamberMaster//Event Calendar 2.0//EN
METHOD:PUBLISH
X-PUBLISHED-TTL:P3D
REFRESH-INTERVAL:P3D
CALSCALE:GREGORIAN
BEGIN:VEVENT
DTSTART:20191120T163000Z
DTEND:20191120T180000Z
X-MICROSOFT-CDO-ALLDAYEVENT:FALSE
SUMMARY:Lunch & Learn: Coffee 101-The Basics of Coffee
DESCRIPTION:Come join Bart\, of Bart's Crazy Good Coffee\, and learn all about the basics of coffee!  In addition to talking about the basics of coffee\, lunch will be provided\, as well as... you guessed it... plenty of coffee!!!\n\n \n\nThere will be samples of various coffee beans from around the world\, samples of different "roast levels" for various coffees\, as well as some taste testing too!  We will explore different brewing techniques and how they affect the taste of coffee.  You will walk away knowing way more about America's most popular beverage than you ever thought possible! And... we will have a lot of fun too!\n\n \n\nHave you ever wondered things like\, what exactly is a coffee bean? (hint... it's not actually a bean). Where did coffee originate?  What makes coffee from different places taste differently?  What are the various ways to brew and prepare coffee?  What's the difference between cold brew and iced coffee?  How do you choose a coffee that you will like?  Come and join in on the fun of this Coffee 101 Lunch and Learn\, and find out the answers to these questions and much more!
X-ALT-DESC;FMTTYPE=text/html:<p class="p3" style="font-family: -webkit-standard\; margin: 0px\; font-stretch: normal\; line-height: normal\; color: rgb(69\, 69\, 69)\;"><span style="font-size:14px\;"><span style="font-family:arial\;"><span class="s2">Come join Bart\, of <strong>Bart&rsquo\;s Crazy Good Coffee</strong>\, and learn all about the basics of coffee!&nbsp\;&nbsp\;In addition to talking about the basics of coffee\, lunch will be provided\, as well as... you guessed it... plenty of coffee!!!</span></span></span></p>\n\n<p class="p2" style="font-family: -webkit-standard\; margin: 0px\; font-stretch: normal\; line-height: normal\; color: rgb(69\, 69\, 69)\; min-height: 22.7px\;">&nbsp\;</p>\n\n<p class="p3" style="font-family: -webkit-standard\; margin: 0px\; font-stretch: normal\; line-height: normal\; color: rgb(69\, 69\, 69)\;"><span style="font-size:14px\;"><span style="font-family:arial\;"><span class="s2">There will be samples of various coffee beans from around the world\, samples of different &ldquo\;roast levels&rdquo\; for various coffees\, as well as some taste testing too!&nbsp\;&nbsp\;We will explore different brewing techniques and how they affect the taste of coffee.&nbsp\;&nbsp\;You will walk away knowing way more about America&rsquo\;s most popular beverage than you ever thought possible! And... we will have a lot of fun too!</span></span></span></p>\n\n<p class="p2" style="font-family: -webkit-standard\; margin: 0px\; font-stretch: normal\; line-height: normal\; color: rgb(69\, 69\, 69)\; min-height: 22.7px\;">&nbsp\;</p>\n\n<p class="p3" style="font-family: -webkit-standard\; margin: 0px\; font-stretch: normal\; line-height: normal\; color: rgb(69\, 69\, 69)\;"><span style="font-size:14px\;"><span style="font-family:arial\;"><span class="s2">Have you ever wondered things like\, what exactly is a coffee bean? (hint... it&rsquo\;s not actually a bean). Where did coffee originate?&nbsp\;&nbsp\;What makes coffee from different places taste differently?&nbsp\;&nbsp\;What are the various ways to brew and prepare coffee?&nbsp\;&nbsp\;What&rsquo\;s the difference between cold brew and iced coffee?&nbsp\;&nbsp\;How do you choose a coffee that you will like?&nbsp\;&nbsp\;Come and join in on the fun of this Coffee 101 Lunch and Learn\, and find out the answers to these questions and much more!</span></span></span></p>\n
LOCATION:Greater Irmo Chamber 1235 Columbia Ave. Irmo\, SC 29063
UID:e.1333.3379
SEQUENCE:3
DTSTAMP:20260422T160933Z
URL:https://business.greaterirmochamber.com/events/details/lunch-learn-coffee-101-the-basics-of-coffee-3379
END:VEVENT

END:VCALENDAR
