BEGIN:VCALENDAR
VERSION:2.0
PRODID:-//ChamberMaster//Event Calendar 2.0//EN
METHOD:PUBLISH
X-PUBLISHED-TTL:P3D
REFRESH-INTERVAL:P3D
CALSCALE:GREGORIAN
BEGIN:VEVENT
DTSTART:20180221T163000Z
DTEND:20180221T180000Z
X-MICROSOFT-CDO-ALLDAYEVENT:FALSE
SUMMARY:Lunch & Learn: Coping Skills for Stress
DESCRIPTION:As we continue our Lunch & Learn series on health and wellness\, we will welcome Jessica Mango\, Health Promotion Consultant with Health Directions at Lexington Medical Center for her presentation of Coping Skills for Stress: Strategies for Well-Managed Anger.  Jessica will discuss the progression of anger and how it affects the body.  She'll also teach us some stress management skills to use every day.  We will offer a healthy lunch for $10 but you must register in advance.
X-ALT-DESC;FMTTYPE=text/html:As we continue our Lunch &amp\; Learn series on health and wellness\, we will welcome Jessica Mango\, Health Promotion Consultant with Health Directions at Lexington Medical Center for her presentation of Coping Skills for Stress: Strategies for Well-Managed&nbsp\;Anger. &nbsp\;Jessica will discuss the progression of anger and how it affects the body. &nbsp\;She&#39\;ll also teach us some stress management skills to use every day. &nbsp\;We will offer a healthy lunch for $10 but you must register in advance.
LOCATION:Greater Irmo Chamber of Commerce 1235 Columbia Avenue Irmo\, SC 29063
UID:e.1333.2938
SEQUENCE:3
DTSTAMP:20260424T003557Z
URL:https://business.greaterirmochamber.com/events/details/lunch-learn-coping-skills-for-stress-2938
END:VEVENT

END:VCALENDAR
