BEGIN:VCALENDAR
VERSION:2.0
PRODID:-//ChamberMaster//Event Calendar 2.0//EN
METHOD:PUBLISH
X-PUBLISHED-TTL:P3D
REFRESH-INTERVAL:P3D
CALSCALE:GREGORIAN
BEGIN:VEVENT
DTSTART:20191023T153000Z
DTEND:20191023T170000Z
X-MICROSOFT-CDO-ALLDAYEVENT:FALSE
SUMMARY:Lunch & Learn: Creative Financial Divorce Strategies
DESCRIPTION:Imagine a world where the divorce process is amicable\, not financially confusing or unreasonably priced!  Please join us October 23rd for a lunch & learn hosted by The Financial Knot and understand how to experience a more peaceful divorce process.  This session will offer information on an overview of the divorce process\, all the financial components of divorce and seven common errors in divorce. If time allows\, Stephanie will also discuss different options for divorce available in SC and what to be aware of with each option. By being settlement facilitators\, The Financial Knot offers options. Much of divorce is financial. Why not have a financial professional on your team?
X-ALT-DESC;FMTTYPE=text/html:<div style="font-family: -webkit-standard\; caret-color: rgb(0\, 0\, 0)\; color: rgb(0\, 0\, 0)\;"><span style="font-family:arial\;"><span style="font-size:12pt\;">Imagine a world where the divorce process is amicable\, not financially confusing or unreasonably priced! &nbsp\;</span><strong><span style="font-size:12pt\;">Please join us October 23<sup>rd&nbsp\;</sup>for a lunch &amp\; learn hosted by The Financial Knot&nbsp\;</span></strong><span style="font-size:12pt\;">and understand how to experience a more peaceful divorce process.&nbsp\;&nbsp\;This session will offer information on an overview of the divorce process\, all the financial components of divorce and seven common errors in divorce. If time allows\, Stephanie will also discuss different options for divorce available in SC and what to be aware of with each option.&nbsp\;</span><span style="font-size:12pt\;">By being settlement facilitators\, The Financial Knot offers options. Much of divorce is financial. Why not have a financial professional on your team?</span></span></div>\n
LOCATION:Greater Irmo Chamber of Commerce 1235 Columbia Ave. Irmo\, SC 29063
UID:e.1333.3366
SEQUENCE:3
DTSTAMP:20260422T173859Z
URL:https://business.greaterirmochamber.com/events/details/lunch-learn-creative-financial-divorce-strategies-3366
END:VEVENT

END:VCALENDAR
