BEGIN:VCALENDAR
VERSION:2.0
PRODID:-//ChamberMaster//Event Calendar 2.0//EN
METHOD:PUBLISH
X-PUBLISHED-TTL:P3D
REFRESH-INTERVAL:P3D
CALSCALE:GREGORIAN
BEGIN:VEVENT
DTSTART:20190424T153000Z
DTEND:20190424T170000Z
X-MICROSOFT-CDO-ALLDAYEVENT:FALSE
SUMMARY:Lunch & Learn: Detox Your Body and Home
DESCRIPTION:Spring Cleaning: Easy Body & Home Detox Plan\n\n \n\nCome join us for a light\, healthy\, delicious\, fresh\, detox-friendly lunch...and learn:\n\n\n	Why & How to do a simple & effective 3-Day Detox.  \n	Cleanse-Balance & Energize.  The 3-Day Detox is the perfect way to help you reset your body.  Whether you are starting a weight loss or fitness program\, a detox plan can help you take the first step towards achieving your goals.\n\n\nIn line with Earth Day\, we'll explain how to use just 4 versatile\, non-toxic\, environmentally safe yet powerful cleaners to replace dozens of common household cleaning products.\n\n\n\nPlus\, an introduction to Age-defying Nutriance Organic Skin Care.  \n\n\n\nPresented by Lee & Susan Adams & Columbia NeoLife Team.
X-ALT-DESC;FMTTYPE=text/html:<div style="color:rgb(0\, 0\, 0)\;font-family:-webkit-standard\;"><strong><span style="font-family:arial\,sans-serif\;"><span style="font-size:10.5pt\;">Spring Cleaning: Easy Body &amp\; Home Detox Plan</span></span></strong><br />\n&nbsp\;</div>\n\n<div style="color:rgb(0\, 0\, 0)\;font-family:-webkit-standard\;"><span style="font-size:10.5pt\;"><span style="font-family:arial\,sans-serif\;">Come join us for a light\, healthy\, delicious\, fresh\, detox-friendly lunch...and learn:</span></span></div>\n\n<ul>\n	<li style="color:rgb(0\, 0\, 0)\;font-family:-webkit-standard\;"><span style="font-family:arial\,sans-serif\;"><span style="font-size:10.5pt\;"><strong>Why &amp\; How&nbsp\;</strong>to do a simple &amp\; effective&nbsp\;<strong>3-Day Detox.</strong></span></span><span style="font-family:arial\,sans-serif\;"><span style="font-size:10.5pt\;"><strong>&nbsp\; </strong></span></span></li>\n	<li style="color:rgb(0\, 0\, 0)\;font-family:-webkit-standard\;"><span style="font-family:arial\,sans-serif\;"><span style="font-size:10.5pt\;"><strong>Cleanse-Balance &amp\; Energize.&nbsp\;&nbsp\;</strong>The 3-Day Detox is the perfect way to help you reset your body.&nbsp\; Whether you are starting a weight loss or fitness program\, a detox plan can help you take the first step towards achieving your goals.</span></span></li>\n</ul>\n\n<div style="color:rgb(0\, 0\, 0)\;font-family:-webkit-standard\;"><span style="font-family:arial\,sans-serif\;"><span style="font-size:10.5pt\;">In line with Earth Day\, we&rsquo\;ll explain how to use just 4 versatile\, non-toxic\,&nbsp\;<strong>environmentally safe yet powerful cleaners</strong>&nbsp\;to replace dozens of common household cleaning products.</span></span><br />\n<br />\n<span style="font-family:arial\,sans-serif\;"><span style="font-size:10.5pt\;">Plus\, an introduction to&nbsp\;<strong>Age-defying Nutriance Organic Skin Care.</strong>&nbsp\;&nbsp\;</span></span><br />\n<br />\n<span style="font-size:10.5pt\;"><span style="font-family:arial\,sans-serif\;">Presented by Lee &amp\; Susan Adams &amp\; Columbia NeoLife Team.</span></span></div>\n
LOCATION:Greater Irmo Chamber 1235 Columbia Ave. Irmo\, SC 29063
UID:e.1333.3319
SEQUENCE:3
DTSTAMP:20260423T035938Z
URL:https://business.greaterirmochamber.com/events/details/lunch-learn-detox-your-body-and-home-3319
END:VEVENT

END:VCALENDAR
